{"text_format":"1","workbook":"xlsx","n_sheets":6,"sheets":["checksheet","room","nuclide","one_day_max","one_week_max","three_month_max"],"not_rendered":{"charts":0,"images":0,"macros":1,"external_links":0,"defined_names":4,"comments":0,"pivot_tables":0},"unopened":[],"bounds":{"document_bytes":16777216,"sheet_cells":100000,"rows_first":2000,"rows_last":500,"rows_between":2000,"halvings":0,"cell_chars":16384,"cell_head_chars":4096},"cells_cut":0,"cells_raw":0,"read":"whole","date_system":"1900"}

{"sheet":"checksheet","index":0,"n_rows":105,"n_cols":24,"rows_kept":105,"cut":false,"hidden":false,"merged":[[2,18,2,20],[2,21,2,23],[2,1,2,5],[2,0,3,0],[2,6,2,11],[2,12,2,14],[2,15,2,17]]}
["Usage quantity check sheet"]
[2021,"fiscal year"]
["No.","Input",null,null,null,null,"Automatic calculation",null,null,null,null,null,"Maximum usage quantity (Bq)",null,null,"Cumulative usage quantity (Bq)",null,null,"Usage quantity ratio",null,null,"Simultaneous usage check"]
[null,"Date","Room","Nuclides","Amount","unit","Week\nNo.","Month","Quarter year No.","Room No.","Amount (Bq)","Nuclide group No.","One day","One week","3 month","One day","One week","3mont","One day","One week","3 month","One day","One week","3 month"]
["e.g.","2020-04-18","サイクロトロン室","89Zr",300,"MBq",{"$f":"IF(B5=\"\",\"\",WEEKNUM(B5,1))","v":16},{"$f":"IF(B5=\"\",\"\",MONTH(B5))","v":4},{"$f":"IFERROR(CHOOSE(H5,4,4,4,1,1,1,2,2,2,3,3,3),\"\")","v":1},{"$f":"IFERROR(VLOOKUP(C5,room!$B$3:$C$46,2,FALSE),\"\")","v":"001"},{"$f":"IF(B5=\"\",\"\",IF(F5=\"GBq\",E5*1000000000,IF(F5=\"MBq\",E5*1000000,IF(F5=\"kBq\",E5*1000,E5))))","v":300000000},{"$f":"IFERROR(VLOOKUP(D5,nuclide!$B$3:$C$51,2,FALSE),\"\")","v":4},{"$f":"IFERROR(VLOOKUP(J5,onedaymax1[],L5+1,FALSE),\"\")","v":1300000000},{"$f":"IFERROR(VLOOKUP(J5,oneweekmax[],L5+1,FALSE),\"\")","v":2600000000},{"$f":"IFERROR(VLOOKUP(J5,thremonthmax[],L5+1,FALSE),\"\")","v":33800000000},{"$f":"IF(B5=\"\",\"\",SUMIFS($K$5:$K$200,$B$5:$B$200,\"=\"&B5,$J$5:$J$200,\"=\"&J5,$L$5:$L$200,\"=\"&L5))","v":300000000},{"$f":"IF(B5=\"\",\"\",SUMIFS($K$5:$K$200,$G$5:$G$200,\"=\"&G5,$J$5:$J$200,\"=\"&J5,$L$5:$L$200,\"=\"&L5))","v":300000000},{"$f":"IF(B5=\"\",\"\",SUMIFS($K$5:$K$200,$I$5:$I$200,\"=\"&I5,$J$5:$J$200,\"=\"&J5,$L$5:$L$200,\"=\"&L5))","v":300000000},{"$f":"IFERROR(P5/M5,\"\")","v":0.23076923076923078},{"$f":"IFERROR(Q5/N5,\"\")","v":0.11538461538461539},{"$f":"IFERROR(R5/O5,\"\")","v":8.8757396449704144E-3},{"$f":"IF(OR(J5=\"003\",J5=\"114\"),SUMIFS($S$5:$S$200,$B$5:$B$200,\"=\"&B5,$J$5:$J$200,\"=\"&J5),\"\")","v":""},{"$f":"IF(OR(J5=\"003\",J5=\"114\"),SUMIFS($T$5:$T$200,$G$5:$G$200,\"=\"&G5,$J$5:$J$200,\"=\"&J5),\"\")","v":""},{"$f":"IF(OR(J5=\"003\",J5=\"114\"),SUMIFS($U$5:$U$200,$H$5:$H$200,\"=\"&H5,$J$5:$J$200,\"=\"&J5),\"\")","v":""}]
[1,null,null,null,null,null,{"$f":"IF(B6=\"\",\"\",WEEKNUM(B6,1))","v":""},{"$f":"IF(B6=\"\",\"\",MONTH(B6))","v":""},{"$f":"IFERROR(CHOOSE(H6,4,4,4,1,1,1,2,2,2,3,3,3),\"\")","v":""},{"$f":"IFERROR(VLOOKUP(C6,room!$B$3:$C$46,2,FALSE),\"\")","v":""},{"$f":"IF(B6=\"\",\"\",IF(F6=\"GBq\",E6*1000000000,IF(F6=\"MBq\",E6*1000000,IF(F6=\"kBq\",E6*1000,E6))))","v":""},{"$f":"IFERROR(VLOOKUP(D6,nuclide!$B$3:$C$51,2,FALSE),\"\")","v":""},{"$f":"IFERROR(VLOOKUP(J6,onedaymax1[],L6+1,FALSE),\"\")","v":""},{"$f":"IFERROR(VLOOKUP(J6,oneweekmax[],L6+1,FALSE),\"\")","v":""},{"$f":"IFERROR(VLOOKUP(J6,thremonthmax[],L6+1,FALSE),\"\")","v":""},{"$f":"IF(B6=\"\",\"\",SUMIFS($K$5:$K$200,$B$5:$B$200,\"=\"&B6,$J$5:$J$200,\"=\"&J6,$L$5:$L$200,\"=\"&L6))","v":""},{"$f":"IF(B6=\"\",\"\",SUMIFS($K$5:$K$200,$G$5:$G$200,\"=\"&G6,$J$5:$J$200,\"=\"&J6,$L$5:$L$200,\"=\"&L6))","v":""},{"$f":"IF(B6=\"\",\"\",SUMIFS($K$5:$K$200,$I$5:$I$200,\"=\"&I6,$J$5:$J$200,\"=\"&J6,$L$5:$L$200,\"=\"&L6))","v":""},{"$f":"IFERROR(P6/M6,\"\")","v":""},"","",{"$f":"IF(OR(J6=\"003\",J6=\"114\"),SUMIFS($S$5:$S$200,$B$5:$B$200,\"=\"&B6,$J$5:$J$200,\"=\"&J6),\"\")","v":""},"",""]
[{"$f":"COUNTA($A$6:A6)+1","v":2},null,null,null,null,null,"","","",{"$f":"IFERROR(VLOOKUP(C7,room!$B$3:$C$46,2,FALSE),\"\")","v":""},"",{"$f":"IFERROR(VLOOKUP(D7,nuclide!$B$3:$C$51,2,FALSE),\"\")","v":""},{"$f":"IFERROR(VLOOKUP(J7,onedaymax1[],L7+1,FALSE),\"\")","v":""},{"$f":"IFERROR(VLOOKUP(J7,oneweekmax[],L7+1,FALSE),\"\")","v":""},{"$f":"IFERROR(VLOOKUP(J7,thremonthmax[],L7+1,FALSE),\"\")","v":""},"",{"$f":"IF(B7=\"\",\"\",SUMIFS($K$5:$K$200,$G$5:$G$200,\"=\"&G7,$J$5:$J$200,\"=\"&J7,$L$5:$L$200,\"=\"&L7))","v":""},"","","","","","",""]
[{"$f":"COUNTA($A$6:A7)+1","v":3},null,null,null,null,null,"","","",{"$f":"IFERROR(VLOOKUP(C8,room!$B$3:$C$46,2,FALSE),\"\")","v":""},"",{"$f":"IFERROR(VLOOKUP(D8,nuclide!$B$3:$C$51,2,FALSE),\"\")","v":""},{"$f":"IFERROR(VLOOKUP(J8,onedaymax1[],L8+1,FALSE),\"\")","v":""},{"$f":"IFERROR(VLOOKUP(J8,oneweekmax[],L8+1,FALSE),\"\")","v":""},{"$f":"IFERROR(VLOOKUP(J8,thremonthmax[],L8+1,FALSE),\"\")","v":""},"","","","","","","","",""]
[{"$f":"COUNTA($A$6:A8)+1","v":4},null,null,null,null,null,"","","",{"$f":"IFERROR(VLOOKUP(C9,room!$B$3:$C$46,2,FALSE),\"\")","v":""},"",{"$f":"IFERROR(VLOOKUP(D9,nuclide!$B$3:$C$51,2,FALSE),\"\")","v":""},{"$f":"IFERROR(VLOOKUP(J9,onedaymax1[],L9+1,FALSE),\"\")","v":""},{"$f":"IFERROR(VLOOKUP(J9,oneweekmax[],L9+1,FALSE),\"\")","v":""},{"$f":"IFERROR(VLOOKUP(J9,thremonthmax[],L9+1,FALSE),\"\")","v":""},"","","","","","","","",""]
[{"$f":"COUNTA($A$6:A9)+1","v":5},null,null,null,null,null,"","","",{"$f":"IFERROR(VLOOKUP(C10,room!$B$3:$C$46,2,FALSE),\"\")","v":""},"",{"$f":"IFERROR(VLOOKUP(D10,nuclide!$B$3:$C$51,2,FALSE),\"\")","v":""},{"$f":"IFERROR(VLOOKUP(J10,onedaymax1[],L10+1,FALSE),\"\")","v":""},{"$f":"IFERROR(VLOOKUP(J10,oneweekmax[],L10+1,FALSE),\"\")","v":""},{"$f":"IFERROR(VLOOKUP(J10,thremonthmax[],L10+1,FALSE),\"\")","v":""},"","","","","","","","",""]
[{"$f":"COUNTA($A$6:A10)+1","v":6},null,null,null,null,null,"","","",{"$f":"IFERROR(VLOOKUP(C11,room!$B$3:$C$46,2,FALSE),\"\")","v":""},"",{"$f":"IFERROR(VLOOKUP(D11,nuclide!$B$3:$C$51,2,FALSE),\"\")","v":""},{"$f":"IFERROR(VLOOKUP(J11,onedaymax1[],L11+1,FALSE),\"\")","v":""},{"$f":"IFERROR(VLOOKUP(J11,oneweekmax[],L11+1,FALSE),\"\")","v":""},{"$f":"IFERROR(VLOOKUP(J11,thremonthmax[],L11+1,FALSE),\"\")","v":""},"","","","","","","","",""]
[{"$f":"COUNTA($A$6:A11)+1","v":7},null,null,null,null,null,"","","",{"$f":"IFERROR(VLOOKUP(C12,room!$B$3:$C$46,2,FALSE),\"\")","v":""},"",{"$f":"IFERROR(VLOOKUP(D12,nuclide!$B$3:$C$51,2,FALSE),\"\")","v":""},{"$f":"IFERROR(VLOOKUP(J12,onedaymax1[],L12+1,FALSE),\"\")","v":""},{"$f":"IFERROR(VLOOKUP(J12,oneweekmax[],L12+1,FALSE),\"\")","v":""},{"$f":"IFERROR(VLOOKUP(J12,thremonthmax[],L12+1,FALSE),\"\")","v":""},"","","","","","","","",""]
[{"$f":"COUNTA($A$6:A12)+1","v":8},null,null,null,null,null,"","","",{"$f":"IFERROR(VLOOKUP(C13,room!$B$3:$C$46,2,FALSE),\"\")","v":""},"",{"$f":"IFERROR(VLOOKUP(D13,nuclide!$B$3:$C$51,2,FALSE),\"\")","v":""},{"$f":"IFERROR(VLOOKUP(J13,onedaymax1[],L13+1,FALSE),\"\")","v":""},{"$f":"IFERROR(VLOOKUP(J13,oneweekmax[],L13+1,FALSE),\"\")","v":""},{"$f":"IFERROR(VLOOKUP(J13,thremonthmax[],L13+1,FALSE),\"\")","v":""},"","","","","","","","",""]
[{"$f":"COUNTA($A$6:A13)+1","v":9},null,null,null,null,null,"","","",{"$f":"IFERROR(VLOOKUP(C14,room!$B$3:$C$46,2,FALSE),\"\")","v":""},"",{"$f":"IFERROR(VLOOKUP(D14,nuclide!$B$3:$C$51,2,FALSE),\"\")","v":""},{"$f":"IFERROR(VLOOKUP(J14,onedaymax1[],L14+1,FALSE),\"\")","v":""},{"$f":"IFERROR(VLOOKUP(J14,oneweekmax[],L14+1,FALSE),\"\")","v":""},{"$f":"IFERROR(VLOOKUP(J14,thremonthmax[],L14+1,FALSE),\"\")","v":""},"","","","","","","","",""]
[{"$f":"COUNTA($A$6:A14)+1","v":10},null,null,null,null,null,"","","",{"$f":"IFERROR(VLOOKUP(C15,room!$B$3:$C$46,2,FALSE),\"\")","v":""},"",{"$f":"IFERROR(VLOOKUP(D15,nuclide!$B$3:$C$51,2,FALSE),\"\")","v":""},{"$f":"IFERROR(VLOOKUP(J15,onedaymax1[],L15+1,FALSE),\"\")","v":""},{"$f":"IFERROR(VLOOKUP(J15,oneweekmax[],L15+1,FALSE),\"\")","v":""},{"$f":"IFERROR(VLOOKUP(J15,thremonthmax[],L15+1,FALSE),\"\")","v":""},"","","","","","","","",""]
[{"$f":"COUNTA($A$6:A15)+1","v":11},null,null,null,null,null,"","","",{"$f":"IFERROR(VLOOKUP(C16,room!$B$3:$C$46,2,FALSE),\"\")","v":""},"",{"$f":"IFERROR(VLOOKUP(D16,nuclide!$B$3:$C$51,2,FALSE),\"\")","v":""},{"$f":"IFERROR(VLOOKUP(J16,onedaymax1[],L16+1,FALSE),\"\")","v":""},{"$f":"IFERROR(VLOOKUP(J16,oneweekmax[],L16+1,FALSE),\"\")","v":""},{"$f":"IFERROR(VLOOKUP(J16,thremonthmax[],L16+1,FALSE),\"\")","v":""},"","","","","","","","",""]
[{"$f":"COUNTA($A$6:A16)+1","v":12},null,null,null,null,null,"","","",{"$f":"IFERROR(VLOOKUP(C17,room!$B$3:$C$46,2,FALSE),\"\")","v":""},"",{"$f":"IFERROR(VLOOKUP(D17,nuclide!$B$3:$C$51,2,FALSE),\"\")","v":""},{"$f":"IFERROR(VLOOKUP(J17,onedaymax1[],L17+1,FALSE),\"\")","v":""},{"$f":"IFERROR(VLOOKUP(J17,oneweekmax[],L17+1,FALSE),\"\")","v":""},{"$f":"IFERROR(VLOOKUP(J17,thremonthmax[],L17+1,FALSE),\"\")","v":""},"","","","","","","","",""]
[{"$f":"COUNTA($A$6:A17)+1","v":13},null,null,null,null,null,"","","",{"$f":"IFERROR(VLOOKUP(C18,room!$B$3:$C$46,2,FALSE),\"\")","v":""},"",{"$f":"IFERROR(VLOOKUP(D18,nuclide!$B$3:$C$51,2,FALSE),\"\")","v":""},{"$f":"IFERROR(VLOOKUP(J18,onedaymax1[],L18+1,FALSE),\"\")","v":""},{"$f":"IFERROR(VLOOKUP(J18,oneweekmax[],L18+1,FALSE),\"\")","v":""},{"$f":"IFERROR(VLOOKUP(J18,thremonthmax[],L18+1,FALSE),\"\")","v":""},"","","","","","","","",""]
[{"$f":"COUNTA($A$6:A18)+1","v":14},null,null,null,null,null,"","","",{"$f":"IFERROR(VLOOKUP(C19,room!$B$3:$C$46,2,FALSE),\"\")","v":""},"",{"$f":"IFERROR(VLOOKUP(D19,nuclide!$B$3:$C$51,2,FALSE),\"\")","v":""},{"$f":"IFERROR(VLOOKUP(J19,onedaymax1[],L19+1,FALSE),\"\")","v":""},{"$f":"IFERROR(VLOOKUP(J19,oneweekmax[],L19+1,FALSE),\"\")","v":""},{"$f":"IFERROR(VLOOKUP(J19,thremonthmax[],L19+1,FALSE),\"\")","v":""},"","","","","","","","",""]
[{"$f":"COUNTA($A$6:A19)+1","v":15},null,null,null,null,null,"","","",{"$f":"IFERROR(VLOOKUP(C20,room!$B$3:$C$46,2,FALSE),\"\")","v":""},"",{"$f":"IFERROR(VLOOKUP(D20,nuclide!$B$3:$C$51,2,FALSE),\"\")","v":""},{"$f":"IFERROR(VLOOKUP(J20,onedaymax1[],L20+1,FALSE),\"\")","v":""},{"$f":"IFERROR(VLOOKUP(J20,oneweekmax[],L20+1,FALSE),\"\")","v":""},{"$f":"IFERROR(VLOOKUP(J20,thremonthmax[],L20+1,FALSE),\"\")","v":""},"","","","","","","","",""]
[{"$f":"COUNTA($A$6:A20)+1","v":16},null,null,null,null,null,"","","",{"$f":"IFERROR(VLOOKUP(C21,room!$B$3:$C$46,2,FALSE),\"\")","v":""},"",{"$f":"IFERROR(VLOOKUP(D21,nuclide!$B$3:$C$51,2,FALSE),\"\")","v":""},{"$f":"IFERROR(VLOOKUP(J21,onedaymax1[],L21+1,FALSE),\"\")","v":""},{"$f":"IFERROR(VLOOKUP(J21,oneweekmax[],L21+1,FALSE),\"\")","v":""},{"$f":"IFERROR(VLOOKUP(J21,thremonthmax[],L21+1,FALSE),\"\")","v":""},"","","","","","","","",""]
[{"$f":"COUNTA($A$6:A21)+1","v":17},null,null,null,null,null,"","","",{"$f":"IFERROR(VLOOKUP(C22,room!$B$3:$C$46,2,FALSE),\"\")","v":""},"",{"$f":"IFERROR(VLOOKUP(D22,nuclide!$B$3:$C$51,2,FALSE),\"\")","v":""},{"$f":"IFERROR(VLOOKUP(J22,onedaymax1[],L22+1,FALSE),\"\")","v":""},{"$f":"IFERROR(VLOOKUP(J22,oneweekmax[],L22+1,FALSE),\"\")","v":""},{"$f":"IFERROR(VLOOKUP(J22,thremonthmax[],L22+1,FALSE),\"\")","v":""},"","","","","","","","",""]
[{"$f":"COUNTA($A$6:A22)+1","v":18},null,null,null,null,null,"","","",{"$f":"IFERROR(VLOOKUP(C23,room!$B$3:$C$46,2,FALSE),\"\")","v":""},"",{"$f":"IFERROR(VLOOKUP(D23,nuclide!$B$3:$C$51,2,FALSE),\"\")","v":""},{"$f":"IFERROR(VLOOKUP(J23,onedaymax1[],L23+1,FALSE),\"\")","v":""},{"$f":"IFERROR(VLOOKUP(J23,oneweekmax[],L23+1,FALSE),\"\")","v":""},{"$f":"IFERROR(VLOOKUP(J23,thremonthmax[],L23+1,FALSE),\"\")","v":""},"","","","","","","","",""]
[{"$f":"COUNTA($A$6:A23)+1","v":19},null,null,null,null,null,"","","",{"$f":"IFERROR(VLOOKUP(C24,room!$B$3:$C$46,2,FALSE),\"\")","v":""},"",{"$f":"IFERROR(VLOOKUP(D24,nuclide!$B$3:$C$51,2,FALSE),\"\")","v":""},{"$f":"IFERROR(VLOOKUP(J24,onedaymax1[],L24+1,FALSE),\"\")","v":""},{"$f":"IFERROR(VLOOKUP(J24,oneweekmax[],L24+1,FALSE),\"\")","v":""},{"$f":"IFERROR(VLOOKUP(J24,thremonthmax[],L24+1,FALSE),\"\")","v":""},"","","","","","","","",""]
[{"$f":"COUNTA($A$6:A24)+1","v":20},null,null,null,null,null,"","","",{"$f":"IFERROR(VLOOKUP(C25,room!$B$3:$C$46,2,FALSE),\"\")","v":""},"",{"$f":"IFERROR(VLOOKUP(D25,nuclide!$B$3:$C$51,2,FALSE),\"\")","v":""},{"$f":"IFERROR(VLOOKUP(J25,onedaymax1[],L25+1,FALSE),\"\")","v":""},{"$f":"IFERROR(VLOOKUP(J25,oneweekmax[],L25+1,FALSE),\"\")","v":""},{"$f":"IFERROR(VLOOKUP(J25,thremonthmax[],L25+1,FALSE),\"\")","v":""},"","","","","","","","",""]
[{"$f":"COUNTA($A$6:A25)+1","v":21},null,null,null,null,null,"","","",{"$f":"IFERROR(VLOOKUP(C26,room!$B$3:$C$46,2,FALSE),\"\")","v":""},"",{"$f":"IFERROR(VLOOKUP(D26,nuclide!$B$3:$C$51,2,FALSE),\"\")","v":""},{"$f":"IFERROR(VLOOKUP(J26,onedaymax1[],L26+1,FALSE),\"\")","v":""},{"$f":"IFERROR(VLOOKUP(J26,oneweekmax[],L26+1,FALSE),\"\")","v":""},{"$f":"IFERROR(VLOOKUP(J26,thremonthmax[],L26+1,FALSE),\"\")","v":""},"","","","","","","","",""]
[{"$f":"COUNTA($A$6:A26)+1","v":22},null,null,null,null,null,"","","",{"$f":"IFERROR(VLOOKUP(C27,room!$B$3:$C$46,2,FALSE),\"\")","v":""},"",{"$f":"IFERROR(VLOOKUP(D27,nuclide!$B$3:$C$51,2,FALSE),\"\")","v":""},{"$f":"IFERROR(VLOOKUP(J27,onedaymax1[],L27+1,FALSE),\"\")","v":""},{"$f":"IFERROR(VLOOKUP(J27,oneweekmax[],L27+1,FALSE),\"\")","v":""},{"$f":"IFERROR(VLOOKUP(J27,thremonthmax[],L27+1,FALSE),\"\")","v":""},"","","","","","","","",""]
[{"$f":"COUNTA($A$6:A27)+1","v":23},null,null,null,null,null,"","","",{"$f":"IFERROR(VLOOKUP(C28,room!$B$3:$C$46,2,FALSE),\"\")","v":""},"",{"$f":"IFERROR(VLOOKUP(D28,nuclide!$B$3:$C$51,2,FALSE),\"\")","v":""},{"$f":"IFERROR(VLOOKUP(J28,onedaymax1[],L28+1,FALSE),\"\")","v":""},{"$f":"IFERROR(VLOOKUP(J28,oneweekmax[],L28+1,FALSE),\"\")","v":""},{"$f":"IFERROR(VLOOKUP(J28,thremonthmax[],L28+1,FALSE),\"\")","v":""},"","","","","","","","",""]
[{"$f":"COUNTA($A$6:A28)+1","v":24},null,null,null,null,null,"","","",{"$f":"IFERROR(VLOOKUP(C29,room!$B$3:$C$46,2,FALSE),\"\")","v":""},"",{"$f":"IFERROR(VLOOKUP(D29,nuclide!$B$3:$C$51,2,FALSE),\"\")","v":""},{"$f":"IFERROR(VLOOKUP(J29,onedaymax1[],L29+1,FALSE),\"\")","v":""},{"$f":"IFERROR(VLOOKUP(J29,oneweekmax[],L29+1,FALSE),\"\")","v":""},{"$f":"IFERROR(VLOOKUP(J29,thremonthmax[],L29+1,FALSE),\"\")","v":""},"","","","","","","","",""]
[{"$f":"COUNTA($A$6:A29)+1","v":25},null,null,null,null,null,"","","",{"$f":"IFERROR(VLOOKUP(C30,room!$B$3:$C$46,2,FALSE),\"\")","v":""},"",{"$f":"IFERROR(VLOOKUP(D30,nuclide!$B$3:$C$51,2,FALSE),\"\")","v":""},{"$f":"IFERROR(VLOOKUP(J30,onedaymax1[],L30+1,FALSE),\"\")","v":""},{"$f":"IFERROR(VLOOKUP(J30,oneweekmax[],L30+1,FALSE),\"\")","v":""},{"$f":"IFERROR(VLOOKUP(J30,thremonthmax[],L30+1,FALSE),\"\")","v":""},"","","","","","","","",""]
[{"$f":"COUNTA($A$6:A30)+1","v":26},null,null,null,null,null,"","","",{"$f":"IFERROR(VLOOKUP(C31,room!$B$3:$C$46,2,FALSE),\"\")","v":""},"",{"$f":"IFERROR(VLOOKUP(D31,nuclide!$B$3:$C$51,2,FALSE),\"\")","v":""},{"$f":"IFERROR(VLOOKUP(J31,onedaymax1[],L31+1,FALSE),\"\")","v":""},{"$f":"IFERROR(VLOOKUP(J31,oneweekmax[],L31+1,FALSE),\"\")","v":""},{"$f":"IFERROR(VLOOKUP(J31,thremonthmax[],L31+1,FALSE),\"\")","v":""},"","","","","","","","",""]
[{"$f":"COUNTA($A$6:A31)+1","v":27},null,null,null,null,null,"","","",{"$f":"IFERROR(VLOOKUP(C32,room!$B$3:$C$46,2,FALSE),\"\")","v":""},"",{"$f":"IFERROR(VLOOKUP(D32,nuclide!$B$3:$C$51,2,FALSE),\"\")","v":""},{"$f":"IFERROR(VLOOKUP(J32,onedaymax1[],L32+1,FALSE),\"\")","v":""},{"$f":"IFERROR(VLOOKUP(J32,oneweekmax[],L32+1,FALSE),\"\")","v":""},{"$f":"IFERROR(VLOOKUP(J32,thremonthmax[],L32+1,FALSE),\"\")","v":""},"","","","","","","","",""]
[{"$f":"COUNTA($A$6:A32)+1","v":28},null,null,null,null,null,"","","",{"$f":"IFERROR(VLOOKUP(C33,room!$B$3:$C$46,2,FALSE),\"\")","v":""},"",{"$f":"IFERROR(VLOOKUP(D33,nuclide!$B$3:$C$51,2,FALSE),\"\")","v":""},{"$f":"IFERROR(VLOOKUP(J33,onedaymax1[],L33+1,FALSE),\"\")","v":""},{"$f":"IFERROR(VLOOKUP(J33,oneweekmax[],L33+1,FALSE),\"\")","v":""},{"$f":"IFERROR(VLOOKUP(J33,thremonthmax[],L33+1,FALSE),\"\")","v":""},"","","","","","","","",""]
[{"$f":"COUNTA($A$6:A33)+1","v":29},null,null,null,null,null,"","","",{"$f":"IFERROR(VLOOKUP(C34,room!$B$3:$C$46,2,FALSE),\"\")","v":""},"",{"$f":"IFERROR(VLOOKUP(D34,nuclide!$B$3:$C$51,2,FALSE),\"\")","v":""},{"$f":"IFERROR(VLOOKUP(J34,onedaymax1[],L34+1,FALSE),\"\")","v":""},{"$f":"IFERROR(VLOOKUP(J34,oneweekmax[],L34+1,FALSE),\"\")","v":""},{"$f":"IFERROR(VLOOKUP(J34,thremonthmax[],L34+1,FALSE),\"\")","v":""},"","","","","","","","",""]
[{"$f":"COUNTA($A$6:A34)+1","v":30},null,null,null,null,null,"","","",{"$f":"IFERROR(VLOOKUP(C35,room!$B$3:$C$46,2,FALSE),\"\")","v":""},"",{"$f":"IFERROR(VLOOKUP(D35,nuclide!$B$3:$C$51,2,FALSE),\"\")","v":""},{"$f":"IFERROR(VLOOKUP(J35,onedaymax1[],L35+1,FALSE),\"\")","v":""},{"$f":"IFERROR(VLOOKUP(J35,oneweekmax[],L35+1,FALSE),\"\")","v":""},{"$f":"IFERROR(VLOOKUP(J35,thremonthmax[],L35+1,FALSE),\"\")","v":""},"","","","","","","","",""]
[{"$f":"COUNTA($A$6:A35)+1","v":31},null,null,null,null,null,"","","",{"$f":"IFERROR(VLOOKUP(C36,room!$B$3:$C$46,2,FALSE),\"\")","v":""},"",{"$f":"IFERROR(VLOOKUP(D36,nuclide!$B$3:$C$51,2,FALSE),\"\")","v":""},{"$f":"IFERROR(VLOOKUP(J36,onedaymax1[],L36+1,FALSE),\"\")","v":""},{"$f":"IFERROR(VLOOKUP(J36,oneweekmax[],L36+1,FALSE),\"\")","v":""},{"$f":"IFERROR(VLOOKUP(J36,thremonthmax[],L36+1,FALSE),\"\")","v":""},"","","","","","","","",""]
[{"$f":"COUNTA($A$6:A36)+1","v":32},null,null,null,null,null,"","","",{"$f":"IFERROR(VLOOKUP(C37,room!$B$3:$C$46,2,FALSE),\"\")","v":""},"",{"$f":"IFERROR(VLOOKUP(D37,nuclide!$B$3:$C$51,2,FALSE),\"\")","v":""},{"$f":"IFERROR(VLOOKUP(J37,onedaymax1[],L37+1,FALSE),\"\")","v":""},{"$f":"IFERROR(VLOOKUP(J37,oneweekmax[],L37+1,FALSE),\"\")","v":""},{"$f":"IFERROR(VLOOKUP(J37,thremonthmax[],L37+1,FALSE),\"\")","v":""},"","","","","","","","",""]
[{"$f":"COUNTA($A$6:A37)+1","v":33},null,null,null,null,null,"","","",{"$f":"IFERROR(VLOOKUP(C38,room!$B$3:$C$46,2,FALSE),\"\")","v":""},"",{"$f":"IFERROR(VLOOKUP(D38,nuclide!$B$3:$C$51,2,FALSE),\"\")","v":""},{"$f":"IFERROR(VLOOKUP(J38,onedaymax1[],L38+1,FALSE),\"\")","v":""},{"$f":"IFERROR(VLOOKUP(J38,oneweekmax[],L38+1,FALSE),\"\")","v":""},{"$f":"IFERROR(VLOOKUP(J38,thremonthmax[],L38+1,FALSE),\"\")","v":""},{"$f":"IF(B38=\"\",\"\",SUMIFS($K$5:$K$200,$B$5:$B$200,\"=\"&B38,$J$5:$J$200,\"=\"&J38,$L$5:$L$200,\"=\"&L38))","v":""},"","","","","","","",""]
[{"$f":"COUNTA($A$6:A38)+1","v":34},null,null,null,null,null,"","","",{"$f":"IFERROR(VLOOKUP(C39,room!$B$3:$C$46,2,FALSE),\"\")","v":""},"",{"$f":"IFERROR(VLOOKUP(D39,nuclide!$B$3:$C$51,2,FALSE),\"\")","v":""},{"$f":"IFERROR(VLOOKUP(J39,onedaymax1[],L39+1,FALSE),\"\")","v":""},{"$f":"IFERROR(VLOOKUP(J39,oneweekmax[],L39+1,FALSE),\"\")","v":""},{"$f":"IFERROR(VLOOKUP(J39,thremonthmax[],L39+1,FALSE),\"\")","v":""},"","","","","","","","",""]
[{"$f":"COUNTA($A$6:A39)+1","v":35},null,null,null,null,null,"","","",{"$f":"IFERROR(VLOOKUP(C40,room!$B$3:$C$46,2,FALSE),\"\")","v":""},"",{"$f":"IFERROR(VLOOKUP(D40,nuclide!$B$3:$C$51,2,FALSE),\"\")","v":""},{"$f":"IFERROR(VLOOKUP(J40,onedaymax1[],L40+1,FALSE),\"\")","v":""},{"$f":"IFERROR(VLOOKUP(J40,oneweekmax[],L40+1,FALSE),\"\")","v":""},{"$f":"IFERROR(VLOOKUP(J40,thremonthmax[],L40+1,FALSE),\"\")","v":""},"","","","","","","","",""]
[{"$f":"COUNTA($A$6:A40)+1","v":36},null,null,null,null,null,"","","",{"$f":"IFERROR(VLOOKUP(C41,room!$B$3:$C$46,2,FALSE),\"\")","v":""},"",{"$f":"IFERROR(VLOOKUP(D41,nuclide!$B$3:$C$51,2,FALSE),\"\")","v":""},{"$f":"IFERROR(VLOOKUP(J41,onedaymax1[],L41+1,FALSE),\"\")","v":""},{"$f":"IFERROR(VLOOKUP(J41,oneweekmax[],L41+1,FALSE),\"\")","v":""},{"$f":"IFERROR(VLOOKUP(J41,thremonthmax[],L41+1,FALSE),\"\")","v":""},"","","","","","","","",""]
[{"$f":"COUNTA($A$6:A41)+1","v":37},null,null,null,null,null,"","","",{"$f":"IFERROR(VLOOKUP(C42,room!$B$3:$C$46,2,FALSE),\"\")","v":""},"",{"$f":"IFERROR(VLOOKUP(D42,nuclide!$B$3:$C$51,2,FALSE),\"\")","v":""},{"$f":"IFERROR(VLOOKUP(J42,onedaymax1[],L42+1,FALSE),\"\")","v":""},{"$f":"IFERROR(VLOOKUP(J42,oneweekmax[],L42+1,FALSE),\"\")","v":""},{"$f":"IFERROR(VLOOKUP(J42,thremonthmax[],L42+1,FALSE),\"\")","v":""},"","","","","","","","",""]
[{"$f":"COUNTA($A$6:A42)+1","v":38},null,null,null,null,null,"","","",{"$f":"IFERROR(VLOOKUP(C43,room!$B$3:$C$46,2,FALSE),\"\")","v":""},"",{"$f":"IFERROR(VLOOKUP(D43,nuclide!$B$3:$C$51,2,FALSE),\"\")","v":""},{"$f":"IFERROR(VLOOKUP(J43,onedaymax1[],L43+1,FALSE),\"\")","v":""},{"$f":"IFERROR(VLOOKUP(J43,oneweekmax[],L43+1,FALSE),\"\")","v":""},{"$f":"IFERROR(VLOOKUP(J43,thremonthmax[],L43+1,FALSE),\"\")","v":""},"","","","","","","","",""]
[{"$f":"COUNTA($A$6:A43)+1","v":39},null,null,null,null,null,"","","",{"$f":"IFERROR(VLOOKUP(C44,room!$B$3:$C$46,2,FALSE),\"\")","v":""},"",{"$f":"IFERROR(VLOOKUP(D44,nuclide!$B$3:$C$51,2,FALSE),\"\")","v":""},{"$f":"IFERROR(VLOOKUP(J44,onedaymax1[],L44+1,FALSE),\"\")","v":""},{"$f":"IFERROR(VLOOKUP(J44,oneweekmax[],L44+1,FALSE),\"\")","v":""},{"$f":"IFERROR(VLOOKUP(J44,thremonthmax[],L44+1,FALSE),\"\")","v":""},"","","","","","","","",""]
[{"$f":"COUNTA($A$6:A44)+1","v":40},null,null,null,null,null,"","","",{"$f":"IFERROR(VLOOKUP(C45,room!$B$3:$C$46,2,FALSE),\"\")","v":""},"",{"$f":"IFERROR(VLOOKUP(D45,nuclide!$B$3:$C$51,2,FALSE),\"\")","v":""},{"$f":"IFERROR(VLOOKUP(J45,onedaymax1[],L45+1,FALSE),\"\")","v":""},{"$f":"IFERROR(VLOOKUP(J45,oneweekmax[],L45+1,FALSE),\"\")","v":""},{"$f":"IFERROR(VLOOKUP(J45,thremonthmax[],L45+1,FALSE),\"\")","v":""},"","","",{"$f":"IFERROR(P45/M45,\"\")","v":""},"","","","",""]
[{"$f":"COUNTA($A$6:A45)+1","v":41},null,null,null,null,null,"","","",{"$f":"IFERROR(VLOOKUP(C46,room!$B$3:$C$46,2,FALSE),\"\")","v":""},"",{"$f":"IFERROR(VLOOKUP(D46,nuclide!$B$3:$C$51,2,FALSE),\"\")","v":""},{"$f":"IFERROR(VLOOKUP(J46,onedaymax1[],L46+1,FALSE),\"\")","v":""},{"$f":"IFERROR(VLOOKUP(J46,oneweekmax[],L46+1,FALSE),\"\")","v":""},{"$f":"IFERROR(VLOOKUP(J46,thremonthmax[],L46+1,FALSE),\"\")","v":""},"","","","","","","","",""]
[{"$f":"COUNTA($A$6:A46)+1","v":42},null,null,null,null,null,"","","",{"$f":"IFERROR(VLOOKUP(C47,room!$B$3:$C$46,2,FALSE),\"\")","v":""},"",{"$f":"IFERROR(VLOOKUP(D47,nuclide!$B$3:$C$51,2,FALSE),\"\")","v":""},{"$f":"IFERROR(VLOOKUP(J47,onedaymax1[],L47+1,FALSE),\"\")","v":""},{"$f":"IFERROR(VLOOKUP(J47,oneweekmax[],L47+1,FALSE),\"\")","v":""},{"$f":"IFERROR(VLOOKUP(J47,thremonthmax[],L47+1,FALSE),\"\")","v":""},"","","","","","","","",""]
[{"$f":"COUNTA($A$6:A47)+1","v":43},null,null,null,null,null,"","","",{"$f":"IFERROR(VLOOKUP(C48,room!$B$3:$C$46,2,FALSE),\"\")","v":""},"",{"$f":"IFERROR(VLOOKUP(D48,nuclide!$B$3:$C$51,2,FALSE),\"\")","v":""},{"$f":"IFERROR(VLOOKUP(J48,onedaymax1[],L48+1,FALSE),\"\")","v":""},{"$f":"IFERROR(VLOOKUP(J48,oneweekmax[],L48+1,FALSE),\"\")","v":""},{"$f":"IFERROR(VLOOKUP(J48,thremonthmax[],L48+1,FALSE),\"\")","v":""},"","","","","","","","",""]
[{"$f":"COUNTA($A$6:A48)+1","v":44},null,null,null,null,null,"","","",{"$f":"IFERROR(VLOOKUP(C49,room!$B$3:$C$46,2,FALSE),\"\")","v":""},"",{"$f":"IFERROR(VLOOKUP(D49,nuclide!$B$3:$C$51,2,FALSE),\"\")","v":""},{"$f":"IFERROR(VLOOKUP(J49,onedaymax1[],L49+1,FALSE),\"\")","v":""},{"$f":"IFERROR(VLOOKUP(J49,oneweekmax[],L49+1,FALSE),\"\")","v":""},{"$f":"IFERROR(VLOOKUP(J49,thremonthmax[],L49+1,FALSE),\"\")","v":""},"","","","","","","","",""]
[{"$f":"COUNTA($A$6:A49)+1","v":45},null,null,null,null,null,"","","",{"$f":"IFERROR(VLOOKUP(C50,room!$B$3:$C$46,2,FALSE),\"\")","v":""},"",{"$f":"IFERROR(VLOOKUP(D50,nuclide!$B$3:$C$51,2,FALSE),\"\")","v":""},{"$f":"IFERROR(VLOOKUP(J50,onedaymax1[],L50+1,FALSE),\"\")","v":""},{"$f":"IFERROR(VLOOKUP(J50,oneweekmax[],L50+1,FALSE),\"\")","v":""},{"$f":"IFERROR(VLOOKUP(J50,thremonthmax[],L50+1,FALSE),\"\")","v":""},"","","","","","","","",""]
[{"$f":"COUNTA($A$6:A50)+1","v":46},null,null,null,null,null,"","","",{"$f":"IFERROR(VLOOKUP(C51,room!$B$3:$C$46,2,FALSE),\"\")","v":""},"",{"$f":"IFERROR(VLOOKUP(D51,nuclide!$B$3:$C$51,2,FALSE),\"\")","v":""},{"$f":"IFERROR(VLOOKUP(J51,onedaymax1[],L51+1,FALSE),\"\")","v":""},{"$f":"IFERROR(VLOOKUP(J51,oneweekmax[],L51+1,FALSE),\"\")","v":""},{"$f":"IFERROR(VLOOKUP(J51,thremonthmax[],L51+1,FALSE),\"\")","v":""},"","","","","","","","",""]
[{"$f":"COUNTA($A$6:A51)+1","v":47},null,null,null,null,null,"","","",{"$f":"IFERROR(VLOOKUP(C52,room!$B$3:$C$46,2,FALSE),\"\")","v":""},"",{"$f":"IFERROR(VLOOKUP(D52,nuclide!$B$3:$C$51,2,FALSE),\"\")","v":""},{"$f":"IFERROR(VLOOKUP(J52,onedaymax1[],L52+1,FALSE),\"\")","v":""},{"$f":"IFERROR(VLOOKUP(J52,oneweekmax[],L52+1,FALSE),\"\")","v":""},{"$f":"IFERROR(VLOOKUP(J52,thremonthmax[],L52+1,FALSE),\"\")","v":""},"","","","","","","","",""]
[{"$f":"COUNTA($A$6:A52)+1","v":48},null,null,null,null,null,"","","",{"$f":"IFERROR(VLOOKUP(C53,room!$B$3:$C$46,2,FALSE),\"\")","v":""},"",{"$f":"IFERROR(VLOOKUP(D53,nuclide!$B$3:$C$51,2,FALSE),\"\")","v":""},{"$f":"IFERROR(VLOOKUP(J53,onedaymax1[],L53+1,FALSE),\"\")","v":""},{"$f":"IFERROR(VLOOKUP(J53,oneweekmax[],L53+1,FALSE),\"\")","v":""},{"$f":"IFERROR(VLOOKUP(J53,thremonthmax[],L53+1,FALSE),\"\")","v":""},"","","","","","","","",""]
[{"$f":"COUNTA($A$6:A53)+1","v":49},null,null,null,null,null,"","","",{"$f":"IFERROR(VLOOKUP(C54,room!$B$3:$C$46,2,FALSE),\"\")","v":""},"",{"$f":"IFERROR(VLOOKUP(D54,nuclide!$B$3:$C$51,2,FALSE),\"\")","v":""},{"$f":"IFERROR(VLOOKUP(J54,onedaymax1[],L54+1,FALSE),\"\")","v":""},{"$f":"IFERROR(VLOOKUP(J54,oneweekmax[],L54+1,FALSE),\"\")","v":""},{"$f":"IFERROR(VLOOKUP(J54,thremonthmax[],L54+1,FALSE),\"\")","v":""},"","","","","","","","",""]
[{"$f":"COUNTA($A$6:A54)+1","v":50},null,null,null,null,null,"","","",{"$f":"IFERROR(VLOOKUP(C55,room!$B$3:$C$46,2,FALSE),\"\")","v":""},"",{"$f":"IFERROR(VLOOKUP(D55,nuclide!$B$3:$C$51,2,FALSE),\"\")","v":""},{"$f":"IFERROR(VLOOKUP(J55,onedaymax1[],L55+1,FALSE),\"\")","v":""},{"$f":"IFERROR(VLOOKUP(J55,oneweekmax[],L55+1,FALSE),\"\")","v":""},{"$f":"IFERROR(VLOOKUP(J55,thremonthmax[],L55+1,FALSE),\"\")","v":""},"","","","","","","","",""]
[{"$f":"COUNTA($A$6:A55)+1","v":51},null,null,null,null,null,"","","",{"$f":"IFERROR(VLOOKUP(C56,room!$B$3:$C$46,2,FALSE),\"\")","v":""},"",{"$f":"IFERROR(VLOOKUP(D56,nuclide!$B$3:$C$51,2,FALSE),\"\")","v":""},{"$f":"IFERROR(VLOOKUP(J56,onedaymax1[],L56+1,FALSE),\"\")","v":""},{"$f":"IFERROR(VLOOKUP(J56,oneweekmax[],L56+1,FALSE),\"\")","v":""},{"$f":"IFERROR(VLOOKUP(J56,thremonthmax[],L56+1,FALSE),\"\")","v":""},"","","","","","","","",""]
[{"$f":"COUNTA($A$6:A56)+1","v":52},null,null,null,null,null,"","","",{"$f":"IFERROR(VLOOKUP(C57,room!$B$3:$C$46,2,FALSE),\"\")","v":""},"",{"$f":"IFERROR(VLOOKUP(D57,nuclide!$B$3:$C$51,2,FALSE),\"\")","v":""},{"$f":"IFERROR(VLOOKUP(J57,onedaymax1[],L57+1,FALSE),\"\")","v":""},{"$f":"IFERROR(VLOOKUP(J57,oneweekmax[],L57+1,FALSE),\"\")","v":""},{"$f":"IFERROR(VLOOKUP(J57,thremonthmax[],L57+1,FALSE),\"\")","v":""},"","","","","","","","",""]
[{"$f":"COUNTA($A$6:A57)+1","v":53},null,null,null,null,null,"","","",{"$f":"IFERROR(VLOOKUP(C58,room!$B$3:$C$46,2,FALSE),\"\")","v":""},"",{"$f":"IFERROR(VLOOKUP(D58,nuclide!$B$3:$C$51,2,FALSE),\"\")","v":""},{"$f":"IFERROR(VLOOKUP(J58,onedaymax1[],L58+1,FALSE),\"\")","v":""},{"$f":"IFERROR(VLOOKUP(J58,oneweekmax[],L58+1,FALSE),\"\")","v":""},{"$f":"IFERROR(VLOOKUP(J58,thremonthmax[],L58+1,FALSE),\"\")","v":""},"","","","","","","","",""]
[{"$f":"COUNTA($A$6:A58)+1","v":54},null,null,null,null,null,"","","",{"$f":"IFERROR(VLOOKUP(C59,room!$B$3:$C$46,2,FALSE),\"\")","v":""},"",{"$f":"IFERROR(VLOOKUP(D59,nuclide!$B$3:$C$51,2,FALSE),\"\")","v":""},{"$f":"IFERROR(VLOOKUP(J59,onedaymax1[],L59+1,FALSE),\"\")","v":""},{"$f":"IFERROR(VLOOKUP(J59,oneweekmax[],L59+1,FALSE),\"\")","v":""},{"$f":"IFERROR(VLOOKUP(J59,thremonthmax[],L59+1,FALSE),\"\")","v":""},"","","","","","","","",""]
[{"$f":"COUNTA($A$6:A59)+1","v":55},null,null,null,null,null,"","","",{"$f":"IFERROR(VLOOKUP(C60,room!$B$3:$C$46,2,FALSE),\"\")","v":""},"",{"$f":"IFERROR(VLOOKUP(D60,nuclide!$B$3:$C$51,2,FALSE),\"\")","v":""},{"$f":"IFERROR(VLOOKUP(J60,onedaymax1[],L60+1,FALSE),\"\")","v":""},{"$f":"IFERROR(VLOOKUP(J60,oneweekmax[],L60+1,FALSE),\"\")","v":""},{"$f":"IFERROR(VLOOKUP(J60,thremonthmax[],L60+1,FALSE),\"\")","v":""},{"$f":"IF(B60=\"\",\"\",SUMIFS($K$5:$K$200,$B$5:$B$200,\"=\"&B60,$J$5:$J$200,\"=\"&J60,$L$5:$L$200,\"=\"&L60))","v":""},"","","","","","","",""]
[{"$f":"COUNTA($A$6:A60)+1","v":56},null,null,null,null,null,"","","",{"$f":"IFERROR(VLOOKUP(C61,room!$B$3:$C$46,2,FALSE),\"\")","v":""},"",{"$f":"IFERROR(VLOOKUP(D61,nuclide!$B$3:$C$51,2,FALSE),\"\")","v":""},{"$f":"IFERROR(VLOOKUP(J61,onedaymax1[],L61+1,FALSE),\"\")","v":""},{"$f":"IFERROR(VLOOKUP(J61,oneweekmax[],L61+1,FALSE),\"\")","v":""},{"$f":"IFERROR(VLOOKUP(J61,thremonthmax[],L61+1,FALSE),\"\")","v":""},"","","",{"$f":"IFERROR(P61/M61,\"\")","v":""},"","","","",""]
[{"$f":"COUNTA($A$6:A61)+1","v":57},null,null,null,null,null,"","","",{"$f":"IFERROR(VLOOKUP(C62,room!$B$3:$C$46,2,FALSE),\"\")","v":""},"",{"$f":"IFERROR(VLOOKUP(D62,nuclide!$B$3:$C$51,2,FALSE),\"\")","v":""},{"$f":"IFERROR(VLOOKUP(J62,onedaymax1[],L62+1,FALSE),\"\")","v":""},{"$f":"IFERROR(VLOOKUP(J62,oneweekmax[],L62+1,FALSE),\"\")","v":""},{"$f":"IFERROR(VLOOKUP(J62,thremonthmax[],L62+1,FALSE),\"\")","v":""},{"$f":"IF(B62=\"\",\"\",SUMIFS($K$5:$K$200,$B$5:$B$200,\"=\"&B62,$J$5:$J$200,\"=\"&J62,$L$5:$L$200,\"=\"&L62))","v":""},"","","","","","","",""]
[{"$f":"COUNTA($A$6:A62)+1","v":58},null,null,null,null,null,"","","",{"$f":"IFERROR(VLOOKUP(C63,room!$B$3:$C$46,2,FALSE),\"\")","v":""},"",{"$f":"IFERROR(VLOOKUP(D63,nuclide!$B$3:$C$51,2,FALSE),\"\")","v":""},{"$f":"IFERROR(VLOOKUP(J63,onedaymax1[],L63+1,FALSE),\"\")","v":""},{"$f":"IFERROR(VLOOKUP(J63,oneweekmax[],L63+1,FALSE),\"\")","v":""},{"$f":"IFERROR(VLOOKUP(J63,thremonthmax[],L63+1,FALSE),\"\")","v":""},"","","","","","","","",""]
[{"$f":"COUNTA($A$6:A63)+1","v":59},null,null,null,null,null,"","","",{"$f":"IFERROR(VLOOKUP(C64,room!$B$3:$C$46,2,FALSE),\"\")","v":""},"",{"$f":"IFERROR(VLOOKUP(D64,nuclide!$B$3:$C$51,2,FALSE),\"\")","v":""},{"$f":"IFERROR(VLOOKUP(J64,onedaymax1[],L64+1,FALSE),\"\")","v":""},{"$f":"IFERROR(VLOOKUP(J64,oneweekmax[],L64+1,FALSE),\"\")","v":""},{"$f":"IFERROR(VLOOKUP(J64,thremonthmax[],L64+1,FALSE),\"\")","v":""},"","","","","","","","",""]
[{"$f":"COUNTA($A$6:A64)+1","v":60},null,null,null,null,null,"","","",{"$f":"IFERROR(VLOOKUP(C65,room!$B$3:$C$46,2,FALSE),\"\")","v":""},"",{"$f":"IFERROR(VLOOKUP(D65,nuclide!$B$3:$C$51,2,FALSE),\"\")","v":""},{"$f":"IFERROR(VLOOKUP(J65,onedaymax1[],L65+1,FALSE),\"\")","v":""},{"$f":"IFERROR(VLOOKUP(J65,oneweekmax[],L65+1,FALSE),\"\")","v":""},{"$f":"IFERROR(VLOOKUP(J65,thremonthmax[],L65+1,FALSE),\"\")","v":""},"","","","","","","","",""]
[{"$f":"COUNTA($A$6:A65)+1","v":61},null,null,null,null,null,"","","",{"$f":"IFERROR(VLOOKUP(C66,room!$B$3:$C$46,2,FALSE),\"\")","v":""},"",{"$f":"IFERROR(VLOOKUP(D66,nuclide!$B$3:$C$51,2,FALSE),\"\")","v":""},{"$f":"IFERROR(VLOOKUP(J66,onedaymax1[],L66+1,FALSE),\"\")","v":""},{"$f":"IFERROR(VLOOKUP(J66,oneweekmax[],L66+1,FALSE),\"\")","v":""},{"$f":"IFERROR(VLOOKUP(J66,thremonthmax[],L66+1,FALSE),\"\")","v":""},"","","","","","","","",""]
[{"$f":"COUNTA($A$6:A66)+1","v":62},null,null,null,null,null,"","","",{"$f":"IFERROR(VLOOKUP(C67,room!$B$3:$C$46,2,FALSE),\"\")","v":""},"",{"$f":"IFERROR(VLOOKUP(D67,nuclide!$B$3:$C$51,2,FALSE),\"\")","v":""},{"$f":"IFERROR(VLOOKUP(J67,onedaymax1[],L67+1,FALSE),\"\")","v":""},{"$f":"IFERROR(VLOOKUP(J67,oneweekmax[],L67+1,FALSE),\"\")","v":""},{"$f":"IFERROR(VLOOKUP(J67,thremonthmax[],L67+1,FALSE),\"\")","v":""},"","","","","","","","",""]
[{"$f":"COUNTA($A$6:A67)+1","v":63},null,null,null,null,null,"","","",{"$f":"IFERROR(VLOOKUP(C68,room!$B$3:$C$46,2,FALSE),\"\")","v":""},"",{"$f":"IFERROR(VLOOKUP(D68,nuclide!$B$3:$C$51,2,FALSE),\"\")","v":""},{"$f":"IFERROR(VLOOKUP(J68,onedaymax1[],L68+1,FALSE),\"\")","v":""},{"$f":"IFERROR(VLOOKUP(J68,oneweekmax[],L68+1,FALSE),\"\")","v":""},{"$f":"IFERROR(VLOOKUP(J68,thremonthmax[],L68+1,FALSE),\"\")","v":""},"","","","","","","","",""]
[{"$f":"COUNTA($A$6:A68)+1","v":64},null,null,null,null,null,"","","",{"$f":"IFERROR(VLOOKUP(C69,room!$B$3:$C$46,2,FALSE),\"\")","v":""},"",{"$f":"IFERROR(VLOOKUP(D69,nuclide!$B$3:$C$51,2,FALSE),\"\")","v":""},{"$f":"IFERROR(VLOOKUP(J69,onedaymax1[],L69+1,FALSE),\"\")","v":""},{"$f":"IFERROR(VLOOKUP(J69,oneweekmax[],L69+1,FALSE),\"\")","v":""},{"$f":"IFERROR(VLOOKUP(J69,thremonthmax[],L69+1,FALSE),\"\")","v":""},"","","","","","","",{"$f":"IF(OR(J69=\"003\",J69=\"114\"),SUMIFS($T$5:$T$200,$G$5:$G$200,\"=\"&G69,$J$5:$J$200,\"=\"&J69),\"\")","v":""},{"$f":"IF(OR(J69=\"003\",J69=\"114\"),SUMIFS($U$5:$U$200,$H$5:$H$200,\"=\"&H69,$J$5:$J$200,\"=\"&J69),\"\")","v":""}]
[{"$f":"COUNTA($A$6:A69)+1","v":65},null,null,null,null,null,{"$f":"IF(B70=\"\",\"\",WEEKNUM(B70,1))","v":""},{"$f":"IF(B70=\"\",\"\",MONTH(B70))","v":""},{"$f":"IFERROR(CHOOSE(H70,4,4,4,1,1,1,2,2,2,3,3,3),\"\")","v":""},{"$f":"IFERROR(VLOOKUP(C70,room!$B$3:$C$46,2,FALSE),\"\")","v":""},{"$f":"IF(B70=\"\",\"\",IF(F70=\"GBq\",E70*1000000000,IF(F70=\"MBq\",E70*1000000,IF(F70=\"kBq\",E70*1000,E70))))","v":""},{"$f":"IFERROR(VLOOKUP(D70,nuclide!$B$3:$C$51,2,FALSE),\"\")","v":""},{"$f":"IFERROR(VLOOKUP(J70,onedaymax1[],L70+1,FALSE),\"\")","v":""},{"$f":"IFERROR(VLOOKUP(J70,oneweekmax[],L70+1,FALSE),\"\")","v":""},{"$f":"IFERROR(VLOOKUP(J70,thremonthmax[],L70+1,FALSE),\"\")","v":""},{"$f":"IF(B70=\"\",\"\",SUMIFS($K$5:$K$200,$B$5:$B$200,\"=\"&B70,$J$5:$J$200,\"=\"&J70,$L$5:$L$200,\"=\"&L70))","v":""},"",{"$f":"IF(B70=\"\",\"\",SUMIFS($K$5:$K$200,$I$5:$I$200,\"=\"&I70,$J$5:$J$200,\"=\"&J70,$L$5:$L$200,\"=\"&L70))","v":""},"","","",{"$f":"IF(OR(J70=\"003\",J70=\"114\"),SUMIFS($S$5:$S$200,$B$5:$B$200,\"=\"&B70,$J$5:$J$200,\"=\"&J70),\"\")","v":""},"",""]
[{"$f":"COUNTA($A$6:A70)+1","v":66},null,null,null,null,null,"","","",{"$f":"IFERROR(VLOOKUP(C71,room!$B$3:$C$46,2,FALSE),\"\")","v":""},"",{"$f":"IFERROR(VLOOKUP(D71,nuclide!$B$3:$C$51,2,FALSE),\"\")","v":""},{"$f":"IFERROR(VLOOKUP(J71,onedaymax1[],L71+1,FALSE),\"\")","v":""},{"$f":"IFERROR(VLOOKUP(J71,oneweekmax[],L71+1,FALSE),\"\")","v":""},{"$f":"IFERROR(VLOOKUP(J71,thremonthmax[],L71+1,FALSE),\"\")","v":""},"",{"$f":"IF(B71=\"\",\"\",SUMIFS($K$5:$K$200,$G$5:$G$200,\"=\"&G71,$J$5:$J$200,\"=\"&J71,$L$5:$L$200,\"=\"&L71))","v":""},"","","","","","",""]
[{"$f":"COUNTA($A$6:A71)+1","v":67},null,null,null,null,null,"","","",{"$f":"IFERROR(VLOOKUP(C72,room!$B$3:$C$46,2,FALSE),\"\")","v":""},"",{"$f":"IFERROR(VLOOKUP(D72,nuclide!$B$3:$C$51,2,FALSE),\"\")","v":""},{"$f":"IFERROR(VLOOKUP(J72,onedaymax1[],L72+1,FALSE),\"\")","v":""},{"$f":"IFERROR(VLOOKUP(J72,oneweekmax[],L72+1,FALSE),\"\")","v":""},{"$f":"IFERROR(VLOOKUP(J72,thremonthmax[],L72+1,FALSE),\"\")","v":""},"","","","","","","","",""]
[{"$f":"COUNTA($A$6:A72)+1","v":68},null,null,null,null,null,"","","",{"$f":"IFERROR(VLOOKUP(C73,room!$B$3:$C$46,2,FALSE),\"\")","v":""},"",{"$f":"IFERROR(VLOOKUP(D73,nuclide!$B$3:$C$51,2,FALSE),\"\")","v":""},{"$f":"IFERROR(VLOOKUP(J73,onedaymax1[],L73+1,FALSE),\"\")","v":""},{"$f":"IFERROR(VLOOKUP(J73,oneweekmax[],L73+1,FALSE),\"\")","v":""},{"$f":"IFERROR(VLOOKUP(J73,thremonthmax[],L73+1,FALSE),\"\")","v":""},"","","","","","","","",""]
[{"$f":"COUNTA($A$6:A73)+1","v":69},null,null,null,null,null,"","","",{"$f":"IFERROR(VLOOKUP(C74,room!$B$3:$C$46,2,FALSE),\"\")","v":""},"",{"$f":"IFERROR(VLOOKUP(D74,nuclide!$B$3:$C$51,2,FALSE),\"\")","v":""},{"$f":"IFERROR(VLOOKUP(J74,onedaymax1[],L74+1,FALSE),\"\")","v":""},{"$f":"IFERROR(VLOOKUP(J74,oneweekmax[],L74+1,FALSE),\"\")","v":""},{"$f":"IFERROR(VLOOKUP(J74,thremonthmax[],L74+1,FALSE),\"\")","v":""},"","","","","","","","",""]
[{"$f":"COUNTA($A$6:A74)+1","v":70},null,null,null,null,null,"","","",{"$f":"IFERROR(VLOOKUP(C75,room!$B$3:$C$46,2,FALSE),\"\")","v":""},"",{"$f":"IFERROR(VLOOKUP(D75,nuclide!$B$3:$C$51,2,FALSE),\"\")","v":""},{"$f":"IFERROR(VLOOKUP(J75,onedaymax1[],L75+1,FALSE),\"\")","v":""},{"$f":"IFERROR(VLOOKUP(J75,oneweekmax[],L75+1,FALSE),\"\")","v":""},{"$f":"IFERROR(VLOOKUP(J75,thremonthmax[],L75+1,FALSE),\"\")","v":""},"","","","","","","","",""]
[{"$f":"COUNTA($A$6:A75)+1","v":71},null,null,null,null,null,"","","",{"$f":"IFERROR(VLOOKUP(C76,room!$B$3:$C$46,2,FALSE),\"\")","v":""},"",{"$f":"IFERROR(VLOOKUP(D76,nuclide!$B$3:$C$51,2,FALSE),\"\")","v":""},{"$f":"IFERROR(VLOOKUP(J76,onedaymax1[],L76+1,FALSE),\"\")","v":""},{"$f":"IFERROR(VLOOKUP(J76,oneweekmax[],L76+1,FALSE),\"\")","v":""},{"$f":"IFERROR(VLOOKUP(J76,thremonthmax[],L76+1,FALSE),\"\")","v":""},"","","","","","","","",""]
[{"$f":"COUNTA($A$6:A76)+1","v":72},null,null,null,null,null,"","","",{"$f":"IFERROR(VLOOKUP(C77,room!$B$3:$C$46,2,FALSE),\"\")","v":""},"",{"$f":"IFERROR(VLOOKUP(D77,nuclide!$B$3:$C$51,2,FALSE),\"\")","v":""},{"$f":"IFERROR(VLOOKUP(J77,onedaymax1[],L77+1,FALSE),\"\")","v":""},{"$f":"IFERROR(VLOOKUP(J77,oneweekmax[],L77+1,FALSE),\"\")","v":""},{"$f":"IFERROR(VLOOKUP(J77,thremonthmax[],L77+1,FALSE),\"\")","v":""},"","","","","","","","",""]
[{"$f":"COUNTA($A$6:A77)+1","v":73},null,null,null,null,null,"","","",{"$f":"IFERROR(VLOOKUP(C78,room!$B$3:$C$46,2,FALSE),\"\")","v":""},"",{"$f":"IFERROR(VLOOKUP(D78,nuclide!$B$3:$C$51,2,FALSE),\"\")","v":""},{"$f":"IFERROR(VLOOKUP(J78,onedaymax1[],L78+1,FALSE),\"\")","v":""},{"$f":"IFERROR(VLOOKUP(J78,oneweekmax[],L78+1,FALSE),\"\")","v":""},{"$f":"IFERROR(VLOOKUP(J78,thremonthmax[],L78+1,FALSE),\"\")","v":""},"","","","","","","","",""]
[{"$f":"COUNTA($A$6:A78)+1","v":74},null,null,null,null,null,"","","",{"$f":"IFERROR(VLOOKUP(C79,room!$B$3:$C$46,2,FALSE),\"\")","v":""},"",{"$f":"IFERROR(VLOOKUP(D79,nuclide!$B$3:$C$51,2,FALSE),\"\")","v":""},{"$f":"IFERROR(VLOOKUP(J79,onedaymax1[],L79+1,FALSE),\"\")","v":""},{"$f":"IFERROR(VLOOKUP(J79,oneweekmax[],L79+1,FALSE),\"\")","v":""},{"$f":"IFERROR(VLOOKUP(J79,thremonthmax[],L79+1,FALSE),\"\")","v":""},"","","","","","","","",""]
[{"$f":"COUNTA($A$6:A79)+1","v":75},null,null,null,null,null,"","","",{"$f":"IFERROR(VLOOKUP(C80,room!$B$3:$C$46,2,FALSE),\"\")","v":""},"",{"$f":"IFERROR(VLOOKUP(D80,nuclide!$B$3:$C$51,2,FALSE),\"\")","v":""},{"$f":"IFERROR(VLOOKUP(J80,onedaymax1[],L80+1,FALSE),\"\")","v":""},{"$f":"IFERROR(VLOOKUP(J80,oneweekmax[],L80+1,FALSE),\"\")","v":""},{"$f":"IFERROR(VLOOKUP(J80,thremonthmax[],L80+1,FALSE),\"\")","v":""},"","","","","","","","",""]
[{"$f":"COUNTA($A$6:A80)+1","v":76},null,null,null,null,null,"","","",{"$f":"IFERROR(VLOOKUP(C81,room!$B$3:$C$46,2,FALSE),\"\")","v":""},"",{"$f":"IFERROR(VLOOKUP(D81,nuclide!$B$3:$C$51,2,FALSE),\"\")","v":""},{"$f":"IFERROR(VLOOKUP(J81,onedaymax1[],L81+1,FALSE),\"\")","v":""},{"$f":"IFERROR(VLOOKUP(J81,oneweekmax[],L81+1,FALSE),\"\")","v":""},{"$f":"IFERROR(VLOOKUP(J81,thremonthmax[],L81+1,FALSE),\"\")","v":""},"","","","","","","","",""]
[{"$f":"COUNTA($A$6:A81)+1","v":77},null,null,null,null,null,"","","",{"$f":"IFERROR(VLOOKUP(C82,room!$B$3:$C$46,2,FALSE),\"\")","v":""},"",{"$f":"IFERROR(VLOOKUP(D82,nuclide!$B$3:$C$51,2,FALSE),\"\")","v":""},{"$f":"IFERROR(VLOOKUP(J82,onedaymax1[],L82+1,FALSE),\"\")","v":""},{"$f":"IFERROR(VLOOKUP(J82,oneweekmax[],L82+1,FALSE),\"\")","v":""},{"$f":"IFERROR(VLOOKUP(J82,thremonthmax[],L82+1,FALSE),\"\")","v":""},"","","","","","","","",""]
[{"$f":"COUNTA($A$6:A82)+1","v":78},null,null,null,null,null,"","","",{"$f":"IFERROR(VLOOKUP(C83,room!$B$3:$C$46,2,FALSE),\"\")","v":""},"",{"$f":"IFERROR(VLOOKUP(D83,nuclide!$B$3:$C$51,2,FALSE),\"\")","v":""},{"$f":"IFERROR(VLOOKUP(J83,onedaymax1[],L83+1,FALSE),\"\")","v":""},{"$f":"IFERROR(VLOOKUP(J83,oneweekmax[],L83+1,FALSE),\"\")","v":""},{"$f":"IFERROR(VLOOKUP(J83,thremonthmax[],L83+1,FALSE),\"\")","v":""},"","","","","","","","",""]
[{"$f":"COUNTA($A$6:A83)+1","v":79},null,null,null,null,null,"","","",{"$f":"IFERROR(VLOOKUP(C84,room!$B$3:$C$46,2,FALSE),\"\")","v":""},"",{"$f":"IFERROR(VLOOKUP(D84,nuclide!$B$3:$C$51,2,FALSE),\"\")","v":""},{"$f":"IFERROR(VLOOKUP(J84,onedaymax1[],L84+1,FALSE),\"\")","v":""},{"$f":"IFERROR(VLOOKUP(J84,oneweekmax[],L84+1,FALSE),\"\")","v":""},{"$f":"IFERROR(VLOOKUP(J84,thremonthmax[],L84+1,FALSE),\"\")","v":""},"","","","","","","","",""]
[{"$f":"COUNTA($A$6:A84)+1","v":80},null,null,null,null,null,"","","",{"$f":"IFERROR(VLOOKUP(C85,room!$B$3:$C$46,2,FALSE),\"\")","v":""},"",{"$f":"IFERROR(VLOOKUP(D85,nuclide!$B$3:$C$51,2,FALSE),\"\")","v":""},{"$f":"IFERROR(VLOOKUP(J85,onedaymax1[],L85+1,FALSE),\"\")","v":""},{"$f":"IFERROR(VLOOKUP(J85,oneweekmax[],L85+1,FALSE),\"\")","v":""},{"$f":"IFERROR(VLOOKUP(J85,thremonthmax[],L85+1,FALSE),\"\")","v":""},"","","","","","","","",""]
[{"$f":"COUNTA($A$6:A85)+1","v":81},null,null,null,null,null,"","","",{"$f":"IFERROR(VLOOKUP(C86,room!$B$3:$C$46,2,FALSE),\"\")","v":""},"",{"$f":"IFERROR(VLOOKUP(D86,nuclide!$B$3:$C$51,2,FALSE),\"\")","v":""},{"$f":"IFERROR(VLOOKUP(J86,onedaymax1[],L86+1,FALSE),\"\")","v":""},{"$f":"IFERROR(VLOOKUP(J86,oneweekmax[],L86+1,FALSE),\"\")","v":""},{"$f":"IFERROR(VLOOKUP(J86,thremonthmax[],L86+1,FALSE),\"\")","v":""},"","","","","","","","",""]
[{"$f":"COUNTA($A$6:A86)+1","v":82},null,null,null,null,null,"","","",{"$f":"IFERROR(VLOOKUP(C87,room!$B$3:$C$46,2,FALSE),\"\")","v":""},"",{"$f":"IFERROR(VLOOKUP(D87,nuclide!$B$3:$C$51,2,FALSE),\"\")","v":""},{"$f":"IFERROR(VLOOKUP(J87,onedaymax1[],L87+1,FALSE),\"\")","v":""},{"$f":"IFERROR(VLOOKUP(J87,oneweekmax[],L87+1,FALSE),\"\")","v":""},{"$f":"IFERROR(VLOOKUP(J87,thremonthmax[],L87+1,FALSE),\"\")","v":""},"","","","","","","","",""]
[{"$f":"COUNTA($A$6:A87)+1","v":83},null,null,null,null,null,"","","",{"$f":"IFERROR(VLOOKUP(C88,room!$B$3:$C$46,2,FALSE),\"\")","v":""},"",{"$f":"IFERROR(VLOOKUP(D88,nuclide!$B$3:$C$51,2,FALSE),\"\")","v":""},{"$f":"IFERROR(VLOOKUP(J88,onedaymax1[],L88+1,FALSE),\"\")","v":""},{"$f":"IFERROR(VLOOKUP(J88,oneweekmax[],L88+1,FALSE),\"\")","v":""},{"$f":"IFERROR(VLOOKUP(J88,thremonthmax[],L88+1,FALSE),\"\")","v":""},"","","","","","","","",""]
[{"$f":"COUNTA($A$6:A88)+1","v":84},null,null,null,null,null,"","","",{"$f":"IFERROR(VLOOKUP(C89,room!$B$3:$C$46,2,FALSE),\"\")","v":""},"",{"$f":"IFERROR(VLOOKUP(D89,nuclide!$B$3:$C$51,2,FALSE),\"\")","v":""},{"$f":"IFERROR(VLOOKUP(J89,onedaymax1[],L89+1,FALSE),\"\")","v":""},{"$f":"IFERROR(VLOOKUP(J89,oneweekmax[],L89+1,FALSE),\"\")","v":""},{"$f":"IFERROR(VLOOKUP(J89,thremonthmax[],L89+1,FALSE),\"\")","v":""},"","","","","","","","",""]
[{"$f":"COUNTA($A$6:A89)+1","v":85},null,null,null,null,null,"","","",{"$f":"IFERROR(VLOOKUP(C90,room!$B$3:$C$46,2,FALSE),\"\")","v":""},"",{"$f":"IFERROR(VLOOKUP(D90,nuclide!$B$3:$C$51,2,FALSE),\"\")","v":""},{"$f":"IFERROR(VLOOKUP(J90,onedaymax1[],L90+1,FALSE),\"\")","v":""},{"$f":"IFERROR(VLOOKUP(J90,oneweekmax[],L90+1,FALSE),\"\")","v":""},{"$f":"IFERROR(VLOOKUP(J90,thremonthmax[],L90+1,FALSE),\"\")","v":""},"","","","","","","","",""]
[{"$f":"COUNTA($A$6:A90)+1","v":86},null,null,null,null,null,"","","",{"$f":"IFERROR(VLOOKUP(C91,room!$B$3:$C$46,2,FALSE),\"\")","v":""},"",{"$f":"IFERROR(VLOOKUP(D91,nuclide!$B$3:$C$51,2,FALSE),\"\")","v":""},{"$f":"IFERROR(VLOOKUP(J91,onedaymax1[],L91+1,FALSE),\"\")","v":""},{"$f":"IFERROR(VLOOKUP(J91,oneweekmax[],L91+1,FALSE),\"\")","v":""},{"$f":"IFERROR(VLOOKUP(J91,thremonthmax[],L91+1,FALSE),\"\")","v":""},"","","","","","","","",""]
[{"$f":"COUNTA($A$6:A91)+1","v":87},null,null,null,null,null,"","","",{"$f":"IFERROR(VLOOKUP(C92,room!$B$3:$C$46,2,FALSE),\"\")","v":""},"",{"$f":"IFERROR(VLOOKUP(D92,nuclide!$B$3:$C$51,2,FALSE),\"\")","v":""},{"$f":"IFERROR(VLOOKUP(J92,onedaymax1[],L92+1,FALSE),\"\")","v":""},{"$f":"IFERROR(VLOOKUP(J92,oneweekmax[],L92+1,FALSE),\"\")","v":""},{"$f":"IFERROR(VLOOKUP(J92,thremonthmax[],L92+1,FALSE),\"\")","v":""},"","","","","","","","",""]
[{"$f":"COUNTA($A$6:A92)+1","v":88},null,null,null,null,null,"","","",{"$f":"IFERROR(VLOOKUP(C93,room!$B$3:$C$46,2,FALSE),\"\")","v":""},"",{"$f":"IFERROR(VLOOKUP(D93,nuclide!$B$3:$C$51,2,FALSE),\"\")","v":""},{"$f":"IFERROR(VLOOKUP(J93,onedaymax1[],L93+1,FALSE),\"\")","v":""},{"$f":"IFERROR(VLOOKUP(J93,oneweekmax[],L93+1,FALSE),\"\")","v":""},{"$f":"IFERROR(VLOOKUP(J93,thremonthmax[],L93+1,FALSE),\"\")","v":""},"","","","","","","","",""]
[{"$f":"COUNTA($A$6:A93)+1","v":89},null,null,null,null,null,"","","",{"$f":"IFERROR(VLOOKUP(C94,room!$B$3:$C$46,2,FALSE),\"\")","v":""},"",{"$f":"IFERROR(VLOOKUP(D94,nuclide!$B$3:$C$51,2,FALSE),\"\")","v":""},{"$f":"IFERROR(VLOOKUP(J94,onedaymax1[],L94+1,FALSE),\"\")","v":""},{"$f":"IFERROR(VLOOKUP(J94,oneweekmax[],L94+1,FALSE),\"\")","v":""},{"$f":"IFERROR(VLOOKUP(J94,thremonthmax[],L94+1,FALSE),\"\")","v":""},"","","","","","","","",""]
[{"$f":"COUNTA($A$6:A94)+1","v":90},null,null,null,null,null,"","","",{"$f":"IFERROR(VLOOKUP(C95,room!$B$3:$C$46,2,FALSE),\"\")","v":""},"",{"$f":"IFERROR(VLOOKUP(D95,nuclide!$B$3:$C$51,2,FALSE),\"\")","v":""},{"$f":"IFERROR(VLOOKUP(J95,onedaymax1[],L95+1,FALSE),\"\")","v":""},{"$f":"IFERROR(VLOOKUP(J95,oneweekmax[],L95+1,FALSE),\"\")","v":""},{"$f":"IFERROR(VLOOKUP(J95,thremonthmax[],L95+1,FALSE),\"\")","v":""},"","","","","","","","",""]
[{"$f":"COUNTA($A$6:A95)+1","v":91},null,null,null,null,null,"","","",{"$f":"IFERROR(VLOOKUP(C96,room!$B$3:$C$46,2,FALSE),\"\")","v":""},"",{"$f":"IFERROR(VLOOKUP(D96,nuclide!$B$3:$C$51,2,FALSE),\"\")","v":""},{"$f":"IFERROR(VLOOKUP(J96,onedaymax1[],L96+1,FALSE),\"\")","v":""},{"$f":"IFERROR(VLOOKUP(J96,oneweekmax[],L96+1,FALSE),\"\")","v":""},{"$f":"IFERROR(VLOOKUP(J96,thremonthmax[],L96+1,FALSE),\"\")","v":""},"","","","","","","","",""]
[{"$f":"COUNTA($A$6:A96)+1","v":92},null,null,null,null,null,"","","",{"$f":"IFERROR(VLOOKUP(C97,room!$B$3:$C$46,2,FALSE),\"\")","v":""},"",{"$f":"IFERROR(VLOOKUP(D97,nuclide!$B$3:$C$51,2,FALSE),\"\")","v":""},{"$f":"IFERROR(VLOOKUP(J97,onedaymax1[],L97+1,FALSE),\"\")","v":""},{"$f":"IFERROR(VLOOKUP(J97,oneweekmax[],L97+1,FALSE),\"\")","v":""},{"$f":"IFERROR(VLOOKUP(J97,thremonthmax[],L97+1,FALSE),\"\")","v":""},"","","","","","","","",""]
[{"$f":"COUNTA($A$6:A97)+1","v":93},null,null,null,null,null,"","","",{"$f":"IFERROR(VLOOKUP(C98,room!$B$3:$C$46,2,FALSE),\"\")","v":""},"",{"$f":"IFERROR(VLOOKUP(D98,nuclide!$B$3:$C$51,2,FALSE),\"\")","v":""},{"$f":"IFERROR(VLOOKUP(J98,onedaymax1[],L98+1,FALSE),\"\")","v":""},{"$f":"IFERROR(VLOOKUP(J98,oneweekmax[],L98+1,FALSE),\"\")","v":""},{"$f":"IFERROR(VLOOKUP(J98,thremonthmax[],L98+1,FALSE),\"\")","v":""},"","","","","","","","",""]
[{"$f":"COUNTA($A$6:A98)+1","v":94},null,null,null,null,null,"","","",{"$f":"IFERROR(VLOOKUP(C99,room!$B$3:$C$46,2,FALSE),\"\")","v":""},"",{"$f":"IFERROR(VLOOKUP(D99,nuclide!$B$3:$C$51,2,FALSE),\"\")","v":""},{"$f":"IFERROR(VLOOKUP(J99,onedaymax1[],L99+1,FALSE),\"\")","v":""},{"$f":"IFERROR(VLOOKUP(J99,oneweekmax[],L99+1,FALSE),\"\")","v":""},{"$f":"IFERROR(VLOOKUP(J99,thremonthmax[],L99+1,FALSE),\"\")","v":""},"","","","","","","","",""]
[{"$f":"COUNTA($A$6:A99)+1","v":95},null,null,null,null,null,"","","",{"$f":"IFERROR(VLOOKUP(C100,room!$B$3:$C$46,2,FALSE),\"\")","v":""},"",{"$f":"IFERROR(VLOOKUP(D100,nuclide!$B$3:$C$51,2,FALSE),\"\")","v":""},{"$f":"IFERROR(VLOOKUP(J100,onedaymax1[],L100+1,FALSE),\"\")","v":""},{"$f":"IFERROR(VLOOKUP(J100,oneweekmax[],L100+1,FALSE),\"\")","v":""},{"$f":"IFERROR(VLOOKUP(J100,thremonthmax[],L100+1,FALSE),\"\")","v":""},"","","","","","","","",""]
[{"$f":"COUNTA($A$6:A100)+1","v":96},null,null,null,null,null,"","","",{"$f":"IFERROR(VLOOKUP(C101,room!$B$3:$C$46,2,FALSE),\"\")","v":""},"",{"$f":"IFERROR(VLOOKUP(D101,nuclide!$B$3:$C$51,2,FALSE),\"\")","v":""},{"$f":"IFERROR(VLOOKUP(J101,onedaymax1[],L101+1,FALSE),\"\")","v":""},{"$f":"IFERROR(VLOOKUP(J101,oneweekmax[],L101+1,FALSE),\"\")","v":""},{"$f":"IFERROR(VLOOKUP(J101,thremonthmax[],L101+1,FALSE),\"\")","v":""},"","","","","","","","",""]
[{"$f":"COUNTA($A$6:A101)+1","v":97},null,null,null,null,null,"","","",{"$f":"IFERROR(VLOOKUP(C102,room!$B$3:$C$46,2,FALSE),\"\")","v":""},"",{"$f":"IFERROR(VLOOKUP(D102,nuclide!$B$3:$C$51,2,FALSE),\"\")","v":""},{"$f":"IFERROR(VLOOKUP(J102,onedaymax1[],L102+1,FALSE),\"\")","v":""},{"$f":"IFERROR(VLOOKUP(J102,oneweekmax[],L102+1,FALSE),\"\")","v":""},{"$f":"IFERROR(VLOOKUP(J102,thremonthmax[],L102+1,FALSE),\"\")","v":""},"","","",{"$f":"IFERROR(P102/M102,\"\")","v":""},"","","","",""]
[{"$f":"COUNTA($A$6:A102)+1","v":98},null,null,null,null,null,"","","",{"$f":"IFERROR(VLOOKUP(C103,room!$B$3:$C$46,2,FALSE),\"\")","v":""},"",{"$f":"IFERROR(VLOOKUP(D103,nuclide!$B$3:$C$51,2,FALSE),\"\")","v":""},{"$f":"IFERROR(VLOOKUP(J103,onedaymax1[],L103+1,FALSE),\"\")","v":""},{"$f":"IFERROR(VLOOKUP(J103,oneweekmax[],L103+1,FALSE),\"\")","v":""},{"$f":"IFERROR(VLOOKUP(J103,thremonthmax[],L103+1,FALSE),\"\")","v":""},"","","","","","","","",""]
[{"$f":"COUNTA($A$6:A103)+1","v":99},null,null,null,null,null,"","","",{"$f":"IFERROR(VLOOKUP(C104,room!$B$3:$C$46,2,FALSE),\"\")","v":""},"",{"$f":"IFERROR(VLOOKUP(D104,nuclide!$B$3:$C$51,2,FALSE),\"\")","v":""},{"$f":"IFERROR(VLOOKUP(J104,onedaymax1[],L104+1,FALSE),\"\")","v":""},{"$f":"IFERROR(VLOOKUP(J104,oneweekmax[],L104+1,FALSE),\"\")","v":""},{"$f":"IFERROR(VLOOKUP(J104,thremonthmax[],L104+1,FALSE),\"\")","v":""},"","","","","","","","",""]
[{"$f":"COUNTA($A$6:A104)+1","v":100},null,null,null,null,null,"","","",{"$f":"IFERROR(VLOOKUP(C105,room!$B$3:$C$46,2,FALSE),\"\")","v":""},"",{"$f":"IFERROR(VLOOKUP(D105,nuclide!$B$3:$C$51,2,FALSE),\"\")","v":""},{"$f":"IFERROR(VLOOKUP(J105,onedaymax1[],L105+1,FALSE),\"\")","v":""},{"$f":"IFERROR(VLOOKUP(J105,oneweekmax[],L105+1,FALSE),\"\")","v":""},{"$f":"IFERROR(VLOOKUP(J105,thremonthmax[],L105+1,FALSE),\"\")","v":""},"","","","","","","","",""]

{"sheet":"room","index":1,"n_rows":46,"n_cols":4,"rows_kept":46,"cut":false,"hidden":false,"merged":[]}
[]
[null,"使用室","場所"]
[null,"サイクロトロン室","001"]
[null,"ホットラボ室セル内","001"]
[null,"ホットラボ室セル外","002"]
[null,"小中動物用PETカメラ室","003"]
[null,"サル乾燥室","004"]
[null,"サル一時飼育室","005"]
[null,"配分室","006",102]
[null,"廃棄物仕分室","101"]
[null,"物理実験室","103"]
[null,"化学実験室","103"]
[null,"分析機器室２","104"]
[null,"暗室１","105"]
[null,"暗室２","105"]
[null,"暗室３","105"]
[null,"分析機器室１","104"]
[null,"細胞病理実験室","007",106]
[null,"動物組織培養室","104"]
[null,"測定後処理室","104"]
[null,"β線測定室","008",107]
[null,"γ線測定室","008"]
[null,"暗室４","105"]
[null,"暗室５","105"]
[null,"液クロ測定室","104"]
[null,"トレーサー実験室１","006",108]
[null,"トレーサー実験室２","109"]
[null,"分析機器室３","104"]
[null,"化学分析室","104"]
[null,"細胞分画調整室","104"]
[null,"動物実験室１","104"]
[null,"動物飼育室１","104"]
[null,"動物実験室２","009",104]
[null,"動物飼育室２","010",104]
[null,"動物実験室３","104"]
[null,"動物乾燥室","110"]
[null,"測定室","104"]
[null,"植物組織培養室","104"]
[null,"研究開発室","104"]
[null,"分子細胞実験室P２","011",116]
[null,"分子細胞実験室P３","111"]
[null,"前処理蒸留室","112"]
[null,"小動物用CT室","113"]
[null,"SPECT室","114"]
[null,"高レベルトレーサー実験室","115"]
[null,"GMP検定室","012",104]

{"sheet":"nuclide","index":2,"n_rows":51,"n_cols":5,"rows_kept":51,"cut":false,"hidden":false,"merged":[]}
[]
[null,"核種一覧","グループ",null,"単位"]
[null,"11C",1,null,"Bq"]
[null,"13N",1,null,"kBq"]
[null,"15O",2,null,"MBq"]
[null,"18F",3,null,"GBq"]
[null,"64Cu",4]
[null,"89Zr",4]
[null,"67Ga",5]
[null,"99mTc",5]
[null,"111In",5]
[null,"201Tl",5]
[null,"123I",6]
[null,"124I",7]
[null,"125I",7]
[null,"131I",7]
[null,"24Na",8]
[null,"54Mn",8]
[null,"55Fe",8]
[null,"57Co",8]
[null,"59Fe",8]
[null,"60Co",8]
[null,"64Cu",8]
[null,"65Zn",8]
[null,"86Rb",8]
[null,"89Sr",8]
[null,"109Cd",8]
[null,"110mAg",8]
[null,"115mCd",8]
[null,"137Cs",8]
[null,"137mBa",8]
[null,"140Ba",8]
[null,"140La",8]
[null,"177Lu",8]
[null,"99Mo",9]
[null,"3H",10]
[null,"14C",11]
[null,"32P",11]
[null,"33P",11]
[null,"35S",11]
[null,"36Cl",11]
[null,"45Ca",11]
[null,"51Cr",11]
[null,"63Ni",11]
[null,"90Y",12]
[null,"90Sr",12]
[null,"226Ra",13]
[null,"222Rn",13]
[null,"228Ra",13]
[null,"224Ra",13]
[null,"220Rn",13]

{"sheet":"one_day_max","index":3,"n_rows":46,"n_cols":15,"rows_kept":46,"cut":false,"hidden":false,"merged":[[0,2,0,14]]}
[null,"場所","グループ"]
["使用室","列1","1","2","3","4","5","6","7","8","9","10","11","12","13"]
["サイクロトロン室","001",114000000000,9600000000,168000000000,1300000000]
["ホットラボ室セル内","001",114000000000,9600000000,168000000000,1300000000]
["ホットラボ室セル外","002",11400000000,null,16000000000,1300000000]
["小中動物用PETカメラ室","003",6000000000,9600000000,2000000000,500000000,370000000,370000000,3700000]
["サル乾燥室","004",370000000,960000000,370000000,50000000,50000000,50000000,40000000]
["サル一時飼育室","005",60000000,900000000,120000000,50000000,40000000,40000000,40000000]
["配分室","006",370000000,null,370000000,300000000,1850000000,370000000,50000000,2000000,1850000000,2000000000,200000000,200000,15000]
["廃棄物仕分室","101",37000000,96000000,37000000,30000000,555000000,77000000,50000000,1200000,555000000,1000000000,100000000,20000,15000]
["物理実験室","103",null,null,null,null,10000000,10000000,10000000,2000000,null,40000000,40000000,200000]
["化学実験室","103",null,null,null,null,10000000,10000000,10000000,2000000,null,40000000,40000000,200000]
["分析機器室２","104",null,null,null,null,10000000,10000000,10000000,2000000,null,40000000,40000000,200000]
["暗室１","105",null,null,null,null,1000000,1000000,1000000,1000000,null,4000000,4000000,20000]
["暗室２","105",null,null,null,null,1000000,1000000,1000000,1000000,null,4000000,4000000,20000]
["暗室３","105",null,null,null,null,1000000,1000000,1000000,1000000,null,4000000,4000000,20000]
["分析機器室１","104",null,null,null,null,10000000,10000000,10000000,2000000,null,40000000,40000000,200000]
["細胞病理実験室","007",370000000,960000000,370000000,80000000,120000000,185000000,20000000,2000000,null,40000000,40000000,200000]
["動物組織培養室","104",null,null,null,null,10000000,10000000,10000000,2000000,null,40000000,40000000,200000]
["測定後処理室","104",null,null,null,null,10000000,10000000,10000000,2000000,null,40000000,40000000,200000]
["β線測定室","008",37000000,null,37000000,30000000,10000000,10000000,10000000,2000000,null,40000000,40000000,200000,15000]
["γ線測定室","008",37000000,null,37000000,30000000,10000000,10000000,10000000,2000000,null,40000000,40000000,200000,15000]
["暗室４","105",null,null,null,null,1000000,1000000,1000000,1000000,null,4000000,4000000,20000]
["暗室５","105",null,null,null,null,1000000,1000000,1000000,1000000,null,4000000,4000000,20000]
["液クロ測定室","104",null,null,null,null,10000000,10000000,10000000,2000000,null,40000000,40000000,200000]
["トレーサー実験室１","006",370000000,null,370000000,300000000,370000000,370000000,37000000,2000000,null,1000000000,100000000,200000]
["トレーサー実験室２","109",null,null,null,null,10000000,10000000,10000000,2000000,null,1000000000,100000000,200000,15000]
["分析機器室３","104",null,null,null,null,10000000,10000000,10000000,2000000,null,40000000,40000000,200000]
["化学分析室","104",null,null,null,null,10000000,10000000,10000000,2000000,null,40000000,40000000,200000]
["細胞分画調整室","104",null,null,null,null,10000000,10000000,10000000,2000000,null,40000000,40000000,200000]
["動物実験室１","104",null,null,null,null,10000000,10000000,10000000,2000000,null,40000000,40000000,200000]
["動物飼育室１","104",null,null,null,null,10000000,10000000,10000000,2000000,null,40000000,40000000,200000]
["動物実験室２","009",370000000,96000000,500000000,50000000,10000000,10000000,10000000,2000000,null,40000000,40000000,200000]
["動物飼育室２","010",370000000,96000000,100000000,20000000,10000000,10000000,10000000,2000000,null,40000000,40000000,200000]
["動物実験室３","104",null,null,null,null,10000000,10000000,10000000,2000000,null,40000000,40000000,200000]
["動物乾燥室","110",370000000,96000000,185000000,150000000,555000000,77000000,10000000,1200000,null,1000000000,100000000,200000]
["測定室","104",37000000,null,37000000,30000000,10000000,10000000,10000000,2000000,null,40000000,40000000,200000]
["植物組織培養室","104",null,null,null,null,10000000,10000000,10000000,2000000,null,40000000,40000000,200000]
["研究開発室","104",null,null,null,null,10000000,10000000,10000000,2000000,null,40000000,40000000,200000]
["分子細胞実験室P２","011",370000000,960000000,370000000,300000000,370000000,370000000,37000000,2000000,null,40000000,40000000,200000]
["分子細胞実験室P３","111",null,null,null,null,null,null,null,null,null,200000000,20000000]
["前処理蒸留室","112",null,null,null,null,10000000,10000000,10000000,2000000,null,40000000,4000000,20000]
["小動物用CT室","113",370000000,960000000,185000000,150000000,370000000,370000000,25000000]
["SPECT室","114",50000000,null,50000000,50000000,1110000000,100000000,20000000]
["高レベルトレーサー実験室","115",null,null,null,null,555000000,77000000,50000000,2000000,null,2000000000,200000000,200000]
["GMP検定室","012",500000000,null,2000000000,50000000,10000000,10000000,10000000,2000000,null,40000000,40000000,200000]

{"sheet":"one_week_max","index":4,"n_rows":46,"n_cols":31,"rows_kept":46,"cut":false,"hidden":false,"merged":[]}
[null,"1週最大"]
[null,"使用室","場所","1","2","3","4","5","6","7","8","9","10","11","12","13",null,null,"１日\n最大\n","１日\n最大\n","１日\n最大\n","１日\n最大\n","１日\n最大\n","１日\n最大\n","１日\n最大\n","１日\n最大\n","１日\n最大\n","１日\n最大\n","１日\n最大\n","１日\n最大\n","１日\n最大\n"]
[null,"サイクロトロン室","001",{"$f":"S3*5","v":570000000000},{"$f":"T3*2","v":19200000000},{"$f":"U3*5","v":840000000000},{"$f":"V3*2","v":2600000000},null,null,null,null,null,null,null,null,null,null,null,114000000000,9600000000,168000000000,1300000000]
[null,"ホットラボ室セル内","001",570000000000,{"$f":"T4*2","v":19200000000},840000000000,2600000000,null,null,null,null,null,null,null,null,null,null,null,114000000000,9600000000,168000000000,1300000000]
[null,"ホットラボ室セル外","002",57000000000,null,80000000000,2600000000,null,null,null,null,null,null,null,null,null,null,null,11400000000,null,16000000000,1300000000]
[null,"小中動物用PETカメラ室","003",30000000000,{"$f":"T6*2","v":19200000000},10000000000,1000000000,{"$f":"W6*5","v":1850000000},{"$f":"X6*5","v":1850000000},{"$f":"Y6*5","v":18500000},null,null,null,null,null,null,null,null,6000000000,9600000000,2000000000,500000000,370000000,370000000,3700000]
[null,"サル乾燥室","004",1850000000,{"$f":"T7*2","v":1920000000},1850000000,100000000,250000000,250000000,200000000,null,null,null,null,null,null,null,null,370000000,960000000,370000000,50000000,50000000,50000000,40000000]
[null,"サル一時飼育室","005",300000000,{"$f":"T8*2","v":1800000000},600000000,100000000,200000000,200000000,200000000,null,null,null,null,null,null,null,null,60000000,900000000,120000000,50000000,40000000,40000000,40000000]
[null,"配分室","006",1850000000,null,1850000000,600000000,9250000000,1850000000,250000000,{"$f":"Z9*5","v":10000000},9250000000,10000000000,1000000000,1000000,75000,null,null,370000000,null,370000000,300000000,1850000000,370000000,50000000,2000000,1850000000,2000000000,200000000,200000,15000]
[null,"廃棄物仕分室","101",185000000,{"$f":"T10*2","v":192000000},185000000,60000000,2775000000,385000000,250000000,6000000,2775000000,5000000000,500000000,100000,75000,null,null,37000000,96000000,37000000,30000000,555000000,77000000,50000000,1200000,555000000,1000000000,100000000,20000,15000]
[null,"物理実験室","103",null,null,null,null,50000000,50000000,50000000,{"$f":"Z11*5","v":10000000},null,{"$f":"AB11*5","v":200000000},{"$f":"AC11*5","v":200000000},{"$f":"AD11*5","v":1000000},null,null,null,null,null,null,null,10000000,10000000,10000000,2000000,null,40000000,40000000,200000]
[null,"化学実験室","103",null,null,null,null,50000000,50000000,50000000,10000000,null,200000000,200000000,1000000,null,null,null,null,null,null,null,10000000,10000000,10000000,2000000,null,40000000,40000000,200000]
[null,"分析機器室２","104",null,null,null,null,50000000,50000000,50000000,10000000,null,200000000,200000000,1000000,null,null,null,null,null,null,null,10000000,10000000,10000000,2000000,null,40000000,40000000,200000]
[null,"暗室１","105",null,null,null,null,5000000,5000000,5000000,5000000,null,20000000,20000000,100000,null,null,null,null,null,null,null,1000000,1000000,1000000,1000000,null,4000000,4000000,20000]
[null,"暗室２","105",null,null,null,null,5000000,5000000,5000000,5000000,null,20000000,20000000,100000,null,null,null,null,null,null,null,1000000,1000000,1000000,1000000,null,4000000,4000000,20000]
[null,"暗室３","105",null,null,null,null,5000000,5000000,5000000,5000000,null,20000000,20000000,100000,null,null,null,null,null,null,null,1000000,1000000,1000000,1000000,null,4000000,4000000,20000]
[null,"分析機器室１","104",null,null,null,null,50000000,50000000,50000000,10000000,null,200000000,200000000,1000000,null,null,null,null,null,null,null,10000000,10000000,10000000,2000000,null,40000000,40000000,200000]
[null,"細胞病理実験室","007",{"$f":"S18*5","v":1850000000},{"$f":"T18*2","v":1920000000},{"$f":"U18*5","v":1850000000},{"$f":"V18*2","v":160000000},600000000,925000000,100000000,10000000,null,200000000,200000000,1000000,null,null,null,370000000,960000000,370000000,80000000,120000000,185000000,20000000,2000000,null,40000000,40000000,200000]
[null,"動物組織培養室","104",null,null,null,null,50000000,50000000,50000000,10000000,null,200000000,200000000,1000000,null,null,null,null,null,null,null,10000000,10000000,10000000,2000000,null,40000000,40000000,200000]
[null,"測定後処理室","104",null,null,null,null,50000000,50000000,50000000,10000000,null,200000000,200000000,1000000,null,null,null,null,null,null,null,10000000,10000000,10000000,2000000,null,40000000,40000000,200000]
[null,"β線測定室","008",{"$f":"S21*5","v":185000000},null,{"$f":"U21*5","v":185000000},{"$f":"V21*2","v":60000000},50000000,50000000,50000000,10000000,null,200000000,200000000,1000000,{"$f":"AE21*5","v":75000},null,null,37000000,null,37000000,30000000,10000000,10000000,10000000,2000000,null,40000000,40000000,200000,15000]
[null,"γ線測定室","008",{"$f":"S22*5","v":185000000},null,{"$f":"U22*5","v":185000000},{"$f":"V22*2","v":60000000},50000000,50000000,50000000,10000000,null,200000000,200000000,1000000,{"$f":"AE22*5","v":75000},null,null,37000000,null,37000000,30000000,10000000,10000000,10000000,2000000,null,40000000,40000000,200000,15000]
[null,"暗室４","105",null,null,null,null,5000000,5000000,5000000,5000000,null,20000000,20000000,100000,null,null,null,null,null,null,null,1000000,1000000,1000000,1000000,null,4000000,4000000,20000]
[null,"暗室５","105",null,null,null,null,5000000,5000000,5000000,5000000,null,20000000,20000000,100000,null,null,null,null,null,null,null,1000000,1000000,1000000,1000000,null,4000000,4000000,20000]
[null,"液クロ測定室","104",null,null,null,null,50000000,50000000,50000000,10000000,null,200000000,200000000,1000000,null,null,null,null,null,null,null,10000000,10000000,10000000,2000000,null,40000000,40000000,200000]
[null,"トレーサー実験室１","006",{"$f":"S26*5","v":1850000000},null,{"$f":"U26*5","v":1850000000},{"$f":"V26*2","v":600000000},1850000000,1850000000,185000000,10000000,null,5000000000,500000000,1000000,null,null,null,370000000,null,370000000,300000000,370000000,370000000,37000000,2000000,null,1000000000,100000000,200000]
[null,"トレーサー実験室２","109",null,null,null,null,50000000,50000000,50000000,10000000,null,5000000000,500000000,1000000,{"$f":"AE27*5","v":75000},null,null,null,null,null,null,10000000,10000000,10000000,2000000,null,1000000000,100000000,200000,15000]
[null,"分析機器室３","104",null,null,null,null,50000000,50000000,50000000,10000000,null,200000000,200000000,1000000,null,null,null,null,null,null,null,10000000,10000000,10000000,2000000,null,40000000,40000000,200000]
[null,"化学分析室","104",null,null,null,null,50000000,50000000,50000000,10000000,null,200000000,200000000,1000000,null,null,null,null,null,null,null,10000000,10000000,10000000,2000000,null,40000000,40000000,200000]
[null,"細胞分画調整室","104",null,null,null,null,50000000,50000000,50000000,10000000,null,200000000,200000000,1000000,null,null,null,null,null,null,null,10000000,10000000,10000000,2000000,null,40000000,40000000,200000]
[null,"動物実験室１","104",null,null,null,null,50000000,50000000,50000000,10000000,null,200000000,200000000,1000000,null,null,null,null,null,null,null,10000000,10000000,10000000,2000000,null,40000000,40000000,200000]
[null,"動物飼育室１","104",null,null,null,null,50000000,50000000,50000000,10000000,null,200000000,200000000,1000000,null,null,null,null,null,null,null,10000000,10000000,10000000,2000000,null,40000000,40000000,200000]
[null,"動物実験室２","009",{"$f":"S33*5","v":1850000000},{"$f":"T33*2","v":192000000},{"$f":"U33*5","v":2500000000},{"$f":"V33*2","v":100000000},50000000,50000000,50000000,10000000,null,200000000,200000000,1000000,null,null,null,370000000,96000000,500000000,50000000,10000000,10000000,10000000,2000000,null,40000000,40000000,200000]
[null,"動物飼育室２","010",{"$f":"S34*5","v":1850000000},{"$f":"T34*2","v":192000000},{"$f":"U34*5","v":500000000},{"$f":"V34*2","v":40000000},50000000,50000000,50000000,10000000,null,200000000,200000000,1000000,null,null,null,370000000,96000000,100000000,20000000,10000000,10000000,10000000,2000000,null,40000000,40000000,200000]
[null,"動物実験室３","104",null,null,null,null,50000000,50000000,50000000,10000000,null,200000000,200000000,1000000,null,null,null,null,null,null,null,10000000,10000000,10000000,2000000,null,40000000,40000000,200000]
[null,"動物乾燥室","110",{"$f":"S36*5","v":1850000000},{"$f":"T36*2","v":192000000},{"$f":"U36*5","v":925000000},{"$f":"V36*2","v":300000000},2775000000,385000000,50000000,6000000,null,5000000000,500000000,1000000,null,null,null,370000000,96000000,185000000,150000000,555000000,77000000,10000000,1200000,null,1000000000,100000000,200000]
[null,"測定室","104",{"$f":"S37*5","v":185000000},null,{"$f":"U37*5","v":185000000},{"$f":"V37*2","v":60000000},50000000,50000000,50000000,10000000,null,200000000,200000000,1000000,null,null,null,37000000,null,37000000,30000000,10000000,10000000,10000000,2000000,null,40000000,40000000,200000]
[null,"植物組織培養室","104",null,null,null,null,50000000,50000000,50000000,10000000,null,200000000,200000000,1000000,null,null,null,null,null,null,null,10000000,10000000,10000000,2000000,null,40000000,40000000,200000]
[null,"研究開発室","104",null,null,null,null,50000000,50000000,50000000,10000000,null,200000000,200000000,1000000,null,null,null,null,null,null,null,10000000,10000000,10000000,2000000,null,40000000,40000000,200000]
[null,"分子細胞実験室P２","011",{"$f":"S40*5","v":1850000000},{"$f":"T40*2","v":1920000000},{"$f":"U40*5","v":1850000000},{"$f":"V40*2","v":600000000},1850000000,1850000000,185000000,10000000,null,200000000,200000000,1000000,null,null,null,370000000,960000000,370000000,300000000,370000000,370000000,37000000,2000000,null,40000000,40000000,200000]
[null,"分子細胞実験室P３","111",null,null,null,null,0,0,0,null,null,{"$f":"AB41*5","v":1000000000},{"$f":"AC41*5","v":100000000},null,null,null,null,null,null,null,null,null,null,null,null,null,200000000,20000000]
[null,"前処理蒸留室","112",null,null,null,null,50000000,50000000,50000000,{"$f":"Z42*5","v":10000000},null,{"$f":"AB42*5","v":200000000},{"$f":"AC42*5","v":20000000},{"$f":"AD42*5","v":100000},null,null,null,null,null,null,null,10000000,10000000,10000000,2000000,null,40000000,4000000,20000]
[null,"小動物用CT室","113",{"$f":"S43*5","v":1850000000},{"$f":"T43*2","v":1920000000},{"$f":"U43*5","v":925000000},{"$f":"V43*2","v":300000000},1850000000,1850000000,125000000,null,null,null,null,null,null,null,null,370000000,960000000,185000000,150000000,370000000,370000000,25000000]
[null,"SPECT室","114",{"$f":"S44*5","v":250000000},null,{"$f":"U44*5","v":250000000},{"$f":"V44*2","v":100000000},5550000000,500000000,100000000,null,null,null,null,null,null,null,null,50000000,null,50000000,50000000,1110000000,100000000,20000000]
[null,"高レベルトレーサー実験室","115",null,null,null,null,2775000000,385000000,250000000,{"$f":"Z45*5","v":10000000},null,{"$f":"AB45*5","v":10000000000},1000000000,1000000,null,null,null,null,null,null,null,555000000,77000000,50000000,2000000,null,2000000000,200000000,200000]
[null,"GMP検定室","012",{"$f":"S46*5","v":2500000000},null,{"$f":"U46*5","v":10000000000},{"$f":"V46*2","v":100000000},50000000,50000000,50000000,{"$f":"Z46*5","v":10000000},null,200000000,200000000,1000000,null,null,null,500000000,null,2000000000,50000000,10000000,10000000,10000000,2000000,null,40000000,40000000,200000]

{"sheet":"three_month_max","index":5,"n_rows":46,"n_cols":16,"rows_kept":46,"cut":false,"hidden":false,"merged":[]}
[]
[null,"使用室","場所","1","2","3","4","5","6","7","8","9","10","11","12","13"]
[null,"サイクロトロン室","001",6840000000000,240000000000,10080000000000,33800000000]
[null,"ホットラボ室セル内","001",6840000000000,240000000000,10080000000000,33800000000]
[null,"ホットラボ室セル外","002",684000000000,null,960000000000,33800000000]
[null,"小中動物用PETカメラ室","003",234000000000,240000000000,120000000000,13000000000,1850000000,1850000000,37000000]
[null,"サル乾燥室","004",22200000000,24000000000,22200000000,1250000000,1000000000,1000000000,1000000000]
[null,"サル一時飼育室","005",3600000000,22500000000,7200000000,1250000000,800000000,800000000,800000000]
[null,"配分室","006",22200000000,null,22200000000,7500000000,20000000000,2250000000,1500000000,38000000,18500000000,75000000000,2000000000,500000,75000]
[null,"廃棄物仕分室","101",2220000000,2400000000,2220000000,750000000,3950000000,760000000,750000000,1500000,3950000000,7500000000,1000000000,50000,75000]
[null,"物理実験室","103",null,null,null,null,200000000,200000000,200000000,38000000,null,1500000000,1500000000,500000]
[null,"化学実験室","103",null,null,null,null,200000000,200000000,200000000,38000000,null,1500000000,1500000000,500000]
[null,"分析機器室２","104",null,null,null,null,200000000,200000000,200000000,38000000,null,1500000000,1500000000,500000]
[null,"暗室１","105",null,null,null,null,20000000,20000000,20000000,20000000,null,150000000,150000000,50000]
[null,"暗室２","105",null,null,null,null,20000000,20000000,20000000,20000000,null,150000000,150000000,50000]
[null,"暗室３","105",null,null,null,null,20000000,20000000,20000000,20000000,null,150000000,150000000,50000]
[null,"分析機器室１","104",null,null,null,null,200000000,200000000,200000000,38000000,null,1500000000,1500000000,500000]
[null,"細胞病理実験室","007",22200000000,24000000000,22200000000,4800000000,1850000000,1850000000,370000000,38000000,null,1500000000,1500000000,500000]
[null,"動物組織培養室","104",null,null,null,null,200000000,200000000,200000000,38000000,null,1500000000,1500000000,500000]
[null,"測定後処理室","104",null,null,null,null,200000000,200000000,200000000,38000000,null,1500000000,1500000000,500000]
[null,"β線測定室","008",2220000000,null,2220000000,750000000,200000000,200000000,200000000,38000000,null,1500000000,1500000000,500000,75000]
[null,"γ線測定室","008",2220000000,null,2220000000,750000000,200000000,200000000,200000000,38000000,null,1500000000,1500000000,500000,75000]
[null,"暗室４","105",null,null,null,null,20000000,20000000,20000000,20000000,null,150000000,150000000,50000]
[null,"暗室５","105",null,null,null,null,20000000,20000000,20000000,20000000,null,150000000,150000000,50000]
[null,"液クロ測定室","104",null,null,null,null,200000000,200000000,200000000,38000000,null,1500000000,1500000000,500000]
[null,"トレーサー実験室１","006",22200000000,null,22200000000,7500000000,1850000000,1850000000,370000000,38000000,null,7500000000,1000000000,500000]
[null,"トレーサー実験室２","109",null,null,null,null,200000000,200000000,200000000,38000000,null,7500000000,1000000000,500000,75000]
[null,"分析機器室３","104",null,null,null,null,200000000,200000000,200000000,38000000,null,1500000000,1500000000,500000]
[null,"化学分析室","104",null,null,null,null,200000000,200000000,200000000,38000000,null,1500000000,1500000000,500000]
[null,"細胞分画調整室","104",null,null,null,null,200000000,200000000,200000000,38000000,null,1500000000,1500000000,500000]
[null,"動物実験室１","104",null,null,null,null,200000000,200000000,200000000,38000000,null,1500000000,1500000000,500000]
[null,"動物飼育室１","104",null,null,null,null,200000000,200000000,200000000,38000000,null,1500000000,1500000000,500000]
[null,"動物実験室２","009",22200000000,2400000000,30000000000,1250000000,200000000,200000000,200000000,38000000,null,1500000000,1500000000,500000]
[null,"動物飼育室２","010",22200000000,2400000000,6000000000,1200000000,200000000,200000000,200000000,38000000,null,1500000000,1500000000,500000]
[null,"動物実験室３","104",null,null,null,null,200000000,200000000,200000000,38000000,null,1500000000,1500000000,500000]
[null,"動物乾燥室","110",22200000000,2400000000,11100000000,7500000000,3950000000,760000000,200000000,1500000,null,7500000000,1000000000,500000]
[null,"測定室","104",2220000000,null,2220000000,750000000,200000000,200000000,200000000,38000000,null,1500000000,1500000000,500000]
[null,"植物組織培養室","104",null,null,null,null,200000000,200000000,200000000,38000000,null,1500000000,1500000000,500000]
[null,"研究開発室","104",null,null,null,null,200000000,200000000,200000000,38000000,null,1500000000,1500000000,500000]
[null,"分子細胞実験室P２","011",22200000000,24000000000,22200000000,7500000000,1850000000,1850000000,370000000,38000000,null,1500000000,1500000000,500000]
[null,"分子細胞実験室P３","111",null,null,null,null,null,null,null,null,null,7500000000,80000000]
[null,"前処理蒸留室","112",null,null,null,null,200000000,200000000,200000000,38000000,null,1500000000,150000000,50000]
[null,"小動物用CT室","113",22200000000,24000000000,11100000000,3900000000,1850000000,1850000000,370000000]
[null,"SPECT室","114",1250000000,null,1250000000,1250000000,10000000000,1000000000,100000000]
[null,"高レベルトレーサー実験室","115",null,null,null,null,3950000000,760000000,750000000,38000000,null,75000000000,2000000000,500000]
[null,"GMP検定室","012",30000000000,null,12000000000,1250000000,200000000,200000000,200000000,38000000,null,1500000000,1500000000,500000]